BEGIN:VCALENDAR
VERSION:2.0
PRODID:-//ChamberMaster//Event Calendar 2.0//EN
METHOD:PUBLISH
X-PUBLISHED-TTL:P3D
REFRESH-INTERVAL:P3D
CALSCALE:GREGORIAN
BEGIN:VEVENT
DTSTART:20181215T140000Z
DTEND:20181215T210000Z
X-MICROSOFT-CDO-ALLDAYEVENT:FALSE
SUMMARY:Bear's Den Holiday Bazaar
DESCRIPTION:A holiday bazaar for kids to do a little family shopping. All gifts are under $10. For more information visit our website.
X-ALT-DESC;FMTTYPE=text/html:A holiday bazaar for kids to do a little family shopping. All gifts are under $10. For more information visit our website.
LOCATION:Bernheim Forest\, Visitor Center
UID:e.2912.1644
SEQUENCE:3
DTSTAMP:20260419T145137Z
URL:https://members.bardstownchamber.com/events/details/bear-s-den-holiday-bazaar-1644
END:VEVENT

END:VCALENDAR
