BEGIN:VCALENDAR
VERSION:2.0
PRODID:-//ChamberMaster//Event Calendar 2.0//EN
METHOD:PUBLISH
X-PUBLISHED-TTL:P3D
REFRESH-INTERVAL:P3D
CALSCALE:GREGORIAN
BEGIN:VEVENT
DTSTART;VALUE=DATE:20180922
DTEND;VALUE=DATE:20180923
TRANSP:TRANSPARENT
X-MICROSOFT-CDO-ALLDAYEVENT:TRUE
SUMMARY:Bluegrass Christian Academy 6th Annual Golf Scramble
DESCRIPTION:You can enroll online!  http://bit.ly/BCA-golfscramble-2018
X-ALT-DESC;FMTTYPE=text/html:You can enroll online!&nbsp\;&nbsp\;<a href="http://bit.ly/BCA-golfscramble-2018" style="color: rgb(17\, 85\, 204)\; font-family: Arial\, Helvetica\, sans-serif\; font-size: small\; background-color: rgb(255\, 255\, 255)\;" target="_blank">http://bit.ly/BCA-golfscramble-2018</a>
LOCATION:Lincoln Homestead Golf Course in Springfield
UID:e.2912.1574
SEQUENCE:3
DTSTAMP:20260419T194901Z
URL:https://members.bardstownchamber.com/events/details/bca-6th-annual-golf-scramble-1574
END:VEVENT

END:VCALENDAR
