BEGIN:VCALENDAR
VERSION:2.0
PRODID:-//ChamberMaster//Event Calendar 2.0//EN
METHOD:PUBLISH
X-PUBLISHED-TTL:P3D
REFRESH-INTERVAL:P3D
CALSCALE:GREGORIAN
BEGIN:VEVENT
DTSTART:20180908T220000Z
DTEND:20180909T050000Z
X-MICROSOFT-CDO-ALLDAYEVENT:FALSE
SUMMARY:Bardstown’s Night Out!
DESCRIPTION:Join Shop Local Bardstown for a pre Kentucky Bourbon Festival Bar Hop on Saturday\, Sept 8th from 6 PM to 1 AM. Join us for a Locals night as we celebrate Bardstown's Local businesses and residents before the influx of tourism during the 2018 KY Bourbon Festival. This is your night Bardstown! The participating bars and restaurants will include Cafe Primo\, Xavier's Pub\, Mammy's Kitchen\, 3rd St Taphouse\, and The Talbott Tavern with no cover charge for Nelson County residents at any location! Come out for a night on the town with a Pub Crawl\, great drink specials\, live music\, and swag provided by our local distilleries before the out of town crowd arrives! Must be 21!
X-ALT-DESC;FMTTYPE=text/html:Join Shop Local Bardstown for a pre Kentucky Bourbon Festival Bar Hop on Saturday\, Sept 8th from 6 PM to 1 AM. Join us for a Locals night as we celebrate Bardstown&rsquo\;s Local businesses and residents before the influx of tourism during the 2018 KY Bourbon Festival. This is your night Bardstown! The participating bars and restaurants will include Cafe Primo\, Xavier&rsquo\;s Pub\, Mammy&rsquo\;s Kitchen\, 3rd St Taphouse\, and The Talbott Tavern with no cover charge for Nelson County residents at any location! Come out for a night on the town with a Pub Crawl\, great drink specials\, live music\, and swag provided by our local distilleries before the out of town crowd arrives! Must be 21!
LOCATION:Mammy's Kitchen\, The Talbott Tavern\, Xavier's Pub\, Cafe Primo\, and 3rd St Taphouse
UID:e.2912.1575
SEQUENCE:3
DTSTAMP:20260419T195122Z
URL:https://members.bardstownchamber.com/events/details/bardstown-s-night-out-1575
END:VEVENT

END:VCALENDAR
