BEGIN:VCALENDAR
VERSION:2.0
PRODID:-//ChamberMaster//Event Calendar 2.0//EN
METHOD:PUBLISH
X-PUBLISHED-TTL:P3D
REFRESH-INTERVAL:P3D
CALSCALE:GREGORIAN
BEGIN:VEVENT
DTSTART:20181007T020000Z
DTEND:20181007T200000Z
X-MICROSOFT-CDO-ALLDAYEVENT:FALSE
SUMMARY:Bardstown Peddlers Mall's First Ever Fall Festival
DESCRIPTION:You're invited to the first ever Fall Festival at Bardstown Peddlers Mall!\n\n\n\nSaturday: 10AM-5PM\n\nSunday: Noon-5PM\n\n\n\nOutdoor space is open to the public for a small fee and free for our current Peddlers Mall Vendors. Set up for a 10x10 is $15 each day or $20 for both. RAIN OR SHINE. Inquire in the store to sign up for a space. Must provide your own change\, cash\, or pay system.\n\n\n\nFood + Amazing Bargains + Giveaways + More!
X-ALT-DESC;FMTTYPE=text/html:<span style="color: rgb(29\, 33\, 41)\; font-family: Helvetica\, Arial\, sans-serif\; font-size: 14px\; background-color: rgb(255\, 255\, 255)\;">You&#39\;re invited to the first ever Fall Festival at Bardstown Peddlers Mall!</span><br style="color: rgb(29\, 33\, 41)\; font-family: Helvetica\, Arial\, sans-serif\; font-size: 14px\; background-color: rgb(255\, 255\, 255)\;" />\n<br style="color: rgb(29\, 33\, 41)\; font-family: Helvetica\, Arial\, sans-serif\; font-size: 14px\; background-color: rgb(255\, 255\, 255)\;" />\n<span style="color: rgb(29\, 33\, 41)\; font-family: Helvetica\, Arial\, sans-serif\; font-size: 14px\; background-color: rgb(255\, 255\, 255)\;">Saturday: 10AM-5PM</span><br style="color: rgb(29\, 33\, 41)\; font-family: Helvetica\, Arial\, sans-serif\; font-size: 14px\; background-color: rgb(255\, 255\, 255)\;" />\n<span style="color: rgb(29\, 33\, 41)\; font-family: Helvetica\, Arial\, sans-serif\; font-size: 14px\; background-color: rgb(255\, 255\, 255)\;">Sunday: Noon-5PM</span><br style="color: rgb(29\, 33\, 41)\; font-family: Helvetica\, Arial\, sans-serif\; font-size: 14px\; background-color: rgb(255\, 255\, 255)\;" />\n<br style="color: rgb(29\, 33\, 41)\; font-family: Helvetica\, Arial\, sans-serif\; font-size: 14px\; background-color: rgb(255\, 255\, 255)\;" />\n<span style="color: rgb(29\, 33\, 41)\; font-family: Helvetica\, Arial\, sans-serif\; font-size: 14px\; background-color: rgb(255\, 255\, 255)\;">Outdoor space is open to the public for a small fee and free for our current Peddlers Mall Vendors. Set up for a 10x10 is $15 each day or $20 for both. RAIN OR SHINE. Inquire in the store to sign up for a space. Must provide your own change\, cash\, or pay system.</span><br style="color: rgb(29\, 33\, 41)\; font-family: Helvetica\, Arial\, sans-serif\; font-size: 14px\; background-color: rgb(255\, 255\, 255)\;" />\n<br style="color: rgb(29\, 33\, 41)\; font-family: Helvetica\, Arial\, sans-serif\; font-size: 14px\; background-color: rgb(255\, 255\, 255)\;" />\n<span style="color: rgb(29\, 33\, 41)\; font-family: Helvetica\, Arial\, sans-serif\; font-size: 14px\; background-color: rgb(255\, 255\, 255)\;">Food + Amazing Bargains + Giveaways + More!</span>
LOCATION:
UID:e.2912.1612
SEQUENCE:3
DTSTAMP:20260419T182251Z
URL:https://members.bardstownchamber.com/events/details/bardstown-peddlers-mall-s-first-ever-fall-festival-1612
END:VEVENT

END:VCALENDAR
