BEGIN:VCALENDAR
VERSION:2.0
PRODID:-//ChamberMaster//Event Calendar 2.0//EN
METHOD:PUBLISH
X-PUBLISHED-TTL:P3D
REFRESH-INTERVAL:P3D
CALSCALE:GREGORIAN
BEGIN:VEVENT
DTSTART;VALUE=DATE:20180602
DTEND;VALUE=DATE:20180603
TRANSP:TRANSPARENT
X-MICROSOFT-CDO-ALLDAYEVENT:TRUE
SUMMARY:Bardstown Peddlers Mall Grand Opening Celebration
DESCRIPTION:Announcing the grand opening of our newest Peddlers Mall location in Bardstown\, KY!\n\n\nFood + amazing deals + hundreds of vendors + door prizes + giveaways + music \n\nCome celebrate and SAVE with us #buysellsave #shoplocalKY#thriftyisnifty #peddlersmallfind
X-ALT-DESC;FMTTYPE=text/html:<div><u><strong><span style="color:#000000">Announcing the grand opening of our newest Peddlers Mall location in Bardstown\, KY!</span></strong></u></div>\n\n<div>\n<p>Food + amazing deals + hundreds of vendors + door prizes + giveaways + music&nbsp\;</p>\n\n<p>Come celebrate and SAVE with us&nbsp\;<a class="_58cn" href="https://www.facebook.com/hashtag/buysellsave?source=feed_text" style="color: rgb(54\, 88\, 153)\; cursor: pointer\; text-decoration: none\; font-family: inherit\;"><span style="font-family:inherit"><span style="font-family:inherit">#</span><span style="font-family:inherit">buysellsave</span></span></a>&nbsp\;<a class="_58cn" href="https://www.facebook.com/hashtag/shoplocalky?source=feed_text" style="color: rgb(54\, 88\, 153)\; cursor: pointer\; text-decoration: none\; font-family: inherit\;"><span style="font-family:inherit"><span style="font-family:inherit">#</span><span style="font-family:inherit">shoplocalKY</span></span></a><a class="_58cn" href="https://www.facebook.com/hashtag/thriftyisnifty?source=feed_text" style="color: rgb(54\, 88\, 153)\; cursor: pointer\; text-decoration: none\; font-family: inherit\;"><span style="font-family:inherit"><span style="font-family:inherit">#</span><span style="font-family:inherit">thriftyisnifty</span></span></a>&nbsp\;<span style="color:rgb(54\, 88\, 153)\; cursor:pointer\; font-family:inherit\; text-decoration:none"><span style="font-family:inherit"><a class="_58cn" href="https://www.facebook.com/hashtag/peddlersmallfind?source=feed_text" style="color: rgb(54\, 88\, 153)\; cursor: pointer\; text-decoration: none\; font-family: inherit\;">#</a></span><span style="font-family:inherit"><a class="_58cn" href="https://www.facebook.com/hashtag/peddlersmallfind?source=feed_text" style="color: rgb(54\, 88\, 153)\; cursor: pointer\; text-decoration: none\; font-family: inherit\;">peddlersmallfind</a></span></span><br />\n<br />\n<br />\n&nbsp\;</p>\n</div>\n
LOCATION:1020 Granite Drive Bardstown\, KY 40004 (Behind Colton's Steakhouse)
UID:e.2912.1482
SEQUENCE:3
DTSTAMP:20260419T235620Z
URL:https://members.bardstownchamber.com/events/details/bardstown-peddlers-mall-grand-opening-celebration-1482
END:VEVENT

END:VCALENDAR
