BEGIN:VCALENDAR
VERSION:2.0
PRODID:-//ChamberMaster//Event Calendar 2.0//EN
METHOD:PUBLISH
X-PUBLISHED-TTL:P3D
REFRESH-INTERVAL:P3D
CALSCALE:GREGORIAN
BEGIN:VEVENT
DTSTART:20181006T140000Z
DTEND:20181007T210000Z
X-MICROSOFT-CDO-ALLDAYEVENT:FALSE
SUMMARY:Bardstown Peddlers Mall Fall Festival
DESCRIPTION:You're invited to the first ever Fall Festival at Bardstown Peddlers Mall!\n\n\n\nSaturday: 10AM-5PM\n\nSunday: Noon-5PM\n\n\n\nOutdoor space is open to the public for a small fee and free for our current Peddlers Mall Vendors. Set up for a 10x10 is $15 each day or $20 for both. RAIN OR SHINE. Inquire in the store to sign up for a space. Must provide your own change\, cash\, or pay system.\n\n\n\nFood + Amazing Bargains + Giveaways + More!
X-ALT-DESC;FMTTYPE=text/html:<span style="font-size:16px"><span style="font-family:courier new"><span style="color:#FF0000">You&#39\;re invited to the first ever Fall Festival at Bardstown Peddlers Mall!</span><br />\n<br />\n<strong><em><span style="color:rgb(29\, 33\, 41)">Saturday: 10AM-5PM</span><br />\n<span style="color:rgb(29\, 33\, 41)">Sunday: Noon-5PM</span></em></strong><br />\n<br />\n<span style="color:rgb(29\, 33\, 41)">Outdoor space is open to the public for a small fee and free for our current Peddlers Mall Vendors. Set up for a 10x10 is $15 each day or $20 for both. RAIN OR SHINE. Inquire in the store to sign up for a space. Must provide your own change\, cash\, or pay system.</span><br />\n<br />\n<span style="color:rgb(29\, 33\, 41)">Food + Amazing Bargains + Giveaways + More!</span></span></span>
LOCATION:Bardstown Peddlers Mall (Behinds COlton's Steakhouse) 1020 Granite Drive Bardstown\, KY 40004
UID:e.2912.1598
SEQUENCE:3
DTSTAMP:20260419T195922Z
URL:https://members.bardstownchamber.com/events/details/bardstown-peddlers-mall-fall-festival-1598
END:VEVENT

END:VCALENDAR
