BEGIN:VCALENDAR
VERSION:2.0
PRODID:-//ChamberMaster//Event Calendar 2.0//EN
METHOD:PUBLISH
X-PUBLISHED-TTL:P3D
REFRESH-INTERVAL:P3D
CALSCALE:GREGORIAN
BEGIN:VEVENT
DTSTART:20191005T140000Z
DTEND:20191006T220000Z
X-MICROSOFT-CDO-ALLDAYEVENT:FALSE
SUMMARY:Bardstown Peddlers Mall Annual Fall Festival
DESCRIPTION:Join us for our Fall Festival on October 5th and 6th from 10:00am - 5:00pm on Saturday and on Sunday from 12:00pm - 5:00pm! There will be outside vendors set up (message us if you are interested) $15 a day or $20 for both days. Vendors can start siting up as early as 8:00 am on Saturday. Food + Bake Sale + Discounts + Giveaways + Raffles + Door Prizes! *All proceeds benefit 4 Paws For Ability
X-ALT-DESC;FMTTYPE=text/html:Join us for our Fall Festival on October 5th and 6th from 10:00am - 5:00pm on Saturday and on Sunday from 12:00pm - 5:00pm! There will be outside vendors set up (message us if you are interested) $15 a day or $20 for both days. Vendors can start siting up as early as 8:00 am on Saturday. Food + Bake Sale + Discounts + Giveaways + Raffles + Door Prizes! *All proceeds benefit 4 Paws For Ability
LOCATION:The Bardstown Peddlers Mall (Behind Colton's Steakhouse) 1020 Granite Drive Bardstown\, KY 40004
UID:e.2912.1801
SEQUENCE:3
DTSTAMP:20260419T163910Z
URL:https://members.bardstownchamber.com/events/details/bardstown-peddlers-mall-annual-fall-festival-1801
END:VEVENT

END:VCALENDAR
