BEGIN:VCALENDAR
VERSION:2.0
PRODID:-//ChamberMaster//Event Calendar 2.0//EN
METHOD:PUBLISH
X-PUBLISHED-TTL:P3D
REFRESH-INTERVAL:P3D
CALSCALE:GREGORIAN
BEGIN:VEVENT
DTSTART:20180622T160000Z
DTEND:20180622T210000Z
X-MICROSOFT-CDO-ALLDAYEVENT:FALSE
SUMMARY:Bardstown\, KY - The Peach Truck Tour
DESCRIPTION:It's that time of year again. We're coming for you with Fresh Georgia Peaches!\n\n\n\nOur full tour schedule is available at thepeachtruck.com/tour!\n\n\n\nA 25 lb. box of Freestone Georgia Peaches is $40\, and our delicious pecans (shelled and halved) are $14/lb. Make sure and ask the team about The Peach Truck Special when you come out!\n\n\n\nWe prefer debit/credit cards for our safety! No need to reserve. Just come on out.\n\n\n\nOur handy canning and freezing instructions are available here:thepeachtruck.com/recipes
X-ALT-DESC;FMTTYPE=text/html:<span style="color: rgb(75\, 79\, 86)\; font-family: Helvetica\, Arial\, sans-serif\; font-size: 14px\; background-color: rgb(255\, 255\, 255)\;">It&#39\;s that time of year again. We&#39\;re coming for you with Fresh Georgia Peaches!</span><br style="color: rgb(75\, 79\, 86)\; font-family: Helvetica\, Arial\, sans-serif\; font-size: 14px\; background-color: rgb(255\, 255\, 255)\;" />\n<br style="color: rgb(75\, 79\, 86)\; font-family: Helvetica\, Arial\, sans-serif\; font-size: 14px\; background-color: rgb(255\, 255\, 255)\;" />\n<span style="color: rgb(75\, 79\, 86)\; font-family: Helvetica\, Arial\, sans-serif\; font-size: 14px\; background-color: rgb(255\, 255\, 255)\;">Our full tour schedule is available at&nbsp\;</span><a data-lynx-mode="asynclazy" data-lynx-uri="https://l.facebook.com/l.php?u=http%3A%2F%2Fthepeachtruck.com%2Ftour&amp\;h=ATPz1251gnp3tgTeNr15NKhgJoJEqqF0Gf9CpPyWOV3AXzKhWdsKizYuMEqHcC9Xa-YXg0LXbe_dXqG6QYWChxnoFjhtSJfpQM4ni2z3G_i-xUaLOU4" href="http://thepeachtruck.com/tour" rel="nofollow noopener" style="color: rgb(54\, 88\, 153)\; cursor: pointer\; text-decoration-line: none\; font-family: Helvetica\, Arial\, sans-serif\; font-size: 14px\; background-color: rgb(255\, 255\, 255)\;" target="_blank">thepeachtruck.com/tour</a><span style="color: rgb(75\, 79\, 86)\; font-family: Helvetica\, Arial\, sans-serif\; font-size: 14px\; background-color: rgb(255\, 255\, 255)\;">!</span><br style="color: rgb(75\, 79\, 86)\; font-family: Helvetica\, Arial\, sans-serif\; font-size: 14px\; background-color: rgb(255\, 255\, 255)\;" />\n<br style="color: rgb(75\, 79\, 86)\; font-family: Helvetica\, Arial\, sans-serif\; font-size: 14px\; background-color: rgb(255\, 255\, 255)\;" />\n<span style="color: rgb(75\, 79\, 86)\; font-family: Helvetica\, Arial\, sans-serif\; font-size: 14px\; background-color: rgb(255\, 255\, 255)\;">A 25 lb. box of Freestone Georgia Peaches is $40\, and our delicious pecans (shelled and halved) are $14/lb. Make sure and ask the team about The Peach Truck Special when you come out!</span><br style="color: rgb(75\, 79\, 86)\; font-family: Helvetica\, Arial\, sans-serif\; font-size: 14px\; background-color: rgb(255\, 255\, 255)\;" />\n<br style="color: rgb(75\, 79\, 86)\; font-family: Helvetica\, Arial\, sans-serif\; font-size: 14px\; background-color: rgb(255\, 255\, 255)\;" />\n<span style="color: rgb(75\, 79\, 86)\; font-family: Helvetica\, Arial\, sans-serif\; font-size: 14px\; background-color: rgb(255\, 255\, 255)\;">We prefer debit/credit cards for our safety! No need to reserve. Just come on out.</span><br style="color: rgb(75\, 79\, 86)\; font-family: Helvetica\, Arial\, sans-serif\; font-size: 14px\; background-color: rgb(255\, 255\, 255)\;" />\n<br style="color: rgb(75\, 79\, 86)\; font-family: Helvetica\, Arial\, sans-serif\; font-size: 14px\; background-color: rgb(255\, 255\, 255)\;" />\n<span style="color: rgb(75\, 79\, 86)\; font-family: Helvetica\, Arial\, sans-serif\; font-size: 14px\; background-color: rgb(255\, 255\, 255)\;">Our handy canning and freezing instructions are available here:</span><a data-lynx-mode="asynclazy" data-lynx-uri="https://l.facebook.com/l.php?u=http%3A%2F%2Fthepeachtruck.com%2Frecipes&amp\;h=ATPKrgUWmQmomAJ9J0k2hrGQqgsTp1NjtEJgnKvMjloYUFZ1Oqhpmj-ldoR7GZYG1QEzPnm5H8JrOndm6lMU-tAzuQW_x86u-rtXwuQiotQwVvqUCRo" href="http://thepeachtruck.com/recipes" rel="nofollow noopener" style="color: rgb(54\, 88\, 153)\; cursor: pointer\; text-decoration-line: none\; font-family: Helvetica\, Arial\, sans-serif\; font-size: 14px\; background-color: rgb(255\, 255\, 255)\;" target="_blank">thepeachtruck.com/recipes</a>
LOCATION:
UID:e.2912.1474
SEQUENCE:3
DTSTAMP:20260420T011748Z
URL:https://members.bardstownchamber.com/events/details/bardstown-ky-the-peach-truck-tour-1474
END:VEVENT

END:VCALENDAR
