BEGIN:VCALENDAR
VERSION:2.0
PRODID:-//ChamberMaster//Event Calendar 2.0//EN
METHOD:PUBLISH
X-PUBLISHED-TTL:P3D
REFRESH-INTERVAL:P3D
CALSCALE:GREGORIAN
BEGIN:VEVENT
DTSTART:20180902T000000Z
DTEND:20180902T013000Z
X-MICROSOFT-CDO-ALLDAYEVENT:FALSE
SUMMARY:Bardstown Ghost Trek
DESCRIPTION:Join us as we go on a ghost hunt\, walk\, and history tour down the shadowy streets of old historic Bardstown and hear about its ghostly activity from Certified Ghost Hunter\, Patti Starr. This is the 20th year of the Bardstown Ghost Trek.\n\n\n\nThe ghost hunt\, walk\, and history tour starts outside the Talbott Tavern where you will receive instructions of what to do on the ghost hunt as we approach the haunted locations. Bring your cameras\, audio recorders and camcorder if you wish to take part in collecting evidence of the very active spirits who love being photographed on the tour. During the guided walking ghost hunt walking tour you'll hear real stories involving true experiences of people witnessing ghostly activity that is currently happening in the locations on the trek.\n\n\n\n\n\nTicket : $15 each cash preferred\n\n\n\n\n\nWalk ups are welcome and you can buy your tickets on the outside of the Talbott Tavern at 7:30pm before the tour starts\, or if you choose you may secure you spot by texting or calling 859-699-1800 to add your name to the reserve list.\n\n\n\n\n\n\n\nPlease text 859-699-1800 if bad weather is forecasted in case tour is cancelled.\n\n\n\n\n\n\n\nIf you have any questions please call or text 859-699-1800 or Email: pattistarr@ghosthunter.com
X-ALT-DESC;FMTTYPE=text/html:<span style="color: rgb(29\, 33\, 41)\; font-family: Helvetica\, Arial\, sans-serif\; font-size: 14px\; background-color: rgb(255\, 255\, 255)\;">Join us as we go on a ghost hunt\, walk\, and history tour down the shadowy streets of old historic Bardstown and hear about its ghostly activity from Certified Ghost Hunter\, Patti Starr. This is the 20th year of the Bardstown Ghost Trek.</span><br style="color: rgb(29\, 33\, 41)\; font-family: Helvetica\, Arial\, sans-serif\; font-size: 14px\; background-color: rgb(255\, 255\, 255)\;" />\n<br style="color: rgb(29\, 33\, 41)\; font-family: Helvetica\, Arial\, sans-serif\; font-size: 14px\; background-color: rgb(255\, 255\, 255)\;" />\n<span style="color: rgb(29\, 33\, 41)\; font-family: Helvetica\, Arial\, sans-serif\; font-size: 14px\; background-color: rgb(255\, 255\, 255)\;">The ghost hunt\, walk\, and history tour starts outside the Talbott Tavern where you will receive instructions of what to do on the ghost hunt as we approach the haunted locations. Bring your cameras\, audio recorders and camcorder if you wish to take part in collecting evidence of the very active spirits who love being photographed on the tour. During the guided walking ghost hunt walking tour you&#39\;ll hear real stories involving true experiences of people witnessing ghostly activity that is currently happening in the locations on the trek.</span><br style="color: rgb(29\, 33\, 41)\; font-family: Helvetica\, Arial\, sans-serif\; font-size: 14px\; background-color: rgb(255\, 255\, 255)\;" />\n<br style="color: rgb(29\, 33\, 41)\; font-family: Helvetica\, Arial\, sans-serif\; font-size: 14px\; background-color: rgb(255\, 255\, 255)\;" />\n<br style="color: rgb(29\, 33\, 41)\; font-family: Helvetica\, Arial\, sans-serif\; font-size: 14px\; background-color: rgb(255\, 255\, 255)\;" />\n<span style="color: rgb(29\, 33\, 41)\; font-family: Helvetica\, Arial\, sans-serif\; font-size: 14px\; background-color: rgb(255\, 255\, 255)\;">Ticket : $15 each cash preferred</span><br style="color: rgb(29\, 33\, 41)\; font-family: Helvetica\, Arial\, sans-serif\; font-size: 14px\; background-color: rgb(255\, 255\, 255)\;" />\n<br style="color: rgb(29\, 33\, 41)\; font-family: Helvetica\, Arial\, sans-serif\; font-size: 14px\; background-color: rgb(255\, 255\, 255)\;" />\n<br style="color: rgb(29\, 33\, 41)\; font-family: Helvetica\, Arial\, sans-serif\; font-size: 14px\; background-color: rgb(255\, 255\, 255)\;" />\n<span style="color: rgb(29\, 33\, 41)\; font-family: Helvetica\, Arial\, sans-serif\; font-size: 14px\; background-color: rgb(255\, 255\, 255)\;">Walk ups are welcome and you can buy your tickets on the outside of the Talbott Tavern at 7:30pm before the tour starts\, or if you choose you may secure you spot by texting or calling 859-699-1800 to add your name to the reserve list.</span><br style="color: rgb(29\, 33\, 41)\; font-family: Helvetica\, Arial\, sans-serif\; font-size: 14px\; background-color: rgb(255\, 255\, 255)\;" />\n<br style="color: rgb(29\, 33\, 41)\; font-family: Helvetica\, Arial\, sans-serif\; font-size: 14px\; background-color: rgb(255\, 255\, 255)\;" />\n<br style="color: rgb(29\, 33\, 41)\; font-family: Helvetica\, Arial\, sans-serif\; font-size: 14px\; background-color: rgb(255\, 255\, 255)\;" />\n<br style="color: rgb(29\, 33\, 41)\; font-family: Helvetica\, Arial\, sans-serif\; font-size: 14px\; background-color: rgb(255\, 255\, 255)\;" />\n<span style="color: rgb(29\, 33\, 41)\; font-family: Helvetica\, Arial\, sans-serif\; font-size: 14px\; background-color: rgb(255\, 255\, 255)\;">Please text 859-699-1800 if bad weather is forecasted in case tour is cancelled.</span><br style="color: rgb(29\, 33\, 41)\; font-family: Helvetica\, Arial\, sans-serif\; font-size: 14px\; background-color: rgb(255\, 255\, 255)\;" />\n<br style="color: rgb(29\, 33\, 41)\; font-family: Helvetica\, Arial\, sans-serif\; font-size: 14px\; background-color: rgb(255\, 255\, 255)\;" />\n<br style="color: rgb(29\, 33\, 41)\; font-family: Helvetica\, Arial\, sans-serif\; font-size: 14px\; background-color: rgb(255\, 255\, 255)\;" />\n<br style="color: rgb(29\, 33\, 41)\; font-family: Helvetica\, Arial\, sans-serif\; font-size: 14px\; background-color: rgb(255\, 255\, 255)\;" />\n<span style="color: rgb(29\, 33\, 41)\; font-family: Helvetica\, Arial\, sans-serif\; font-size: 14px\; background-color: rgb(255\, 255\, 255)\;">If you have any questions please call or text 859-699-1800 or Email: pattistarr@ghosthunter.com</span>
LOCATION:
UID:e.2912.1591
SEQUENCE:3
DTSTAMP:20260419T194850Z
URL:https://members.bardstownchamber.com/events/details/bardstown-ghost-trek-1591
END:VEVENT

END:VCALENDAR
