BEGIN:VCALENDAR
VERSION:2.0
PRODID:-//ChamberMaster//Event Calendar 2.0//EN
METHOD:PUBLISH
X-PUBLISHED-TTL:P3D
REFRESH-INTERVAL:P3D
CALSCALE:GREGORIAN
BEGIN:VEVENT
DTSTART:20210918T000000Z
DTEND:20210918T020000Z
X-MICROSOFT-CDO-ALLDAYEVENT:FALSE
SUMMARY:Bardstown Country Jam (Andrew Newton and friends)
DESCRIPTION:A Night of Country Music from Nelson County's talented singers\, songwriters and musicians!\n\nAndrew Newton\, Dustin Collins\, Josh Mitcham (of Jericho Woods) and Kaleb Cecil.
X-ALT-DESC;FMTTYPE=text/html:<span style="color: rgb(84\, 89\, 95)\; font-family: Roboto\, sans-serif\; font-size: 20px\; text-align: center\; background-color: rgb(255\, 255\, 255)\;">A Night of Country Music from Nelson County&rsquo\;s talented singers\, songwriters and musicians!</span><br style="box-sizing: border-box\; color: rgb(84\, 89\, 95)\; font-family: Roboto\, sans-serif\; font-size: 20px\; text-align: center\; background-color: rgb(255\, 255\, 255)\;" />\n<span style="color: rgb(84\, 89\, 95)\; font-family: Roboto\, sans-serif\; font-size: 20px\; text-align: center\; background-color: rgb(255\, 255\, 255)\;">Andrew Newton\, Dustin Collins\, Josh Mitcham (of Jericho Woods) and Kaleb Cecil.</span>
LOCATION:
UID:e.2912.3020
SEQUENCE:3
DTSTAMP:20260424T213139Z
URL:https://members.bardstownchamber.com/events/details/bardstown-country-jam-andrew-newton-and-friends-3020
END:VEVENT

END:VCALENDAR
