BEGIN:VCALENDAR
VERSION:2.0
PRODID:-//ChamberMaster//Event Calendar 2.0//EN
METHOD:PUBLISH
X-PUBLISHED-TTL:P3D
REFRESH-INTERVAL:P3D
CALSCALE:GREGORIAN
BEGIN:VEVENT
DTSTART:20181006T170000Z
DTEND:20181006T220000Z
X-MICROSOFT-CDO-ALLDAYEVENT:FALSE
SUMMARY:Bardstown City Chess Tournament
DESCRIPTION:Join Shop Local Bardstown and Bardstown Main Street as we present the first annual Bardstown City Chess Tournament! Think you have what it takes to be crowned Bardstown's first Chess Grand Master? Sign up\, it is open to all ages\, residents\, and skill levels! Join us for a day of friendly competition under the Farmers Market Pavilion in beautiful downtown Bardstown! Spectators are welcome and admission is free! First\, Second\, and Third places will receive prize packages and refreshments will be available! Don't miss your chance to be there when it all started! Contact J.T. For more information or to sign up at jtw.webb@gmail.com!
X-ALT-DESC;FMTTYPE=text/html:Join Shop Local Bardstown and Bardstown Main Street as we present the first annual Bardstown City Chess Tournament! Think you have what it takes to be crowned Bardstown&rsquo\;s first Chess Grand Master? Sign up\, it is open to all ages\, residents\, and skill levels! Join us for a day of friendly competition under the Farmers Market Pavilion in beautiful downtown Bardstown! Spectators are welcome and admission is free! First\, Second\, and Third places will receive prize packages and refreshments will be available! Don&rsquo\;t miss your chance to be there when it all started! Contact J.T. For more information or to sign up at jtw.webb@gmail.com!
LOCATION:Bardstown Farmers Market
UID:e.2912.1559
SEQUENCE:3
DTSTAMP:20260419T182010Z
URL:https://members.bardstownchamber.com/events/details/bardstown-city-chess-tournament-1559
END:VEVENT

END:VCALENDAR
