BEGIN:VCALENDAR
VERSION:2.0
PRODID:-//ChamberMaster//Event Calendar 2.0//EN
METHOD:PUBLISH
X-PUBLISHED-TTL:P3D
REFRESH-INTERVAL:P3D
CALSCALE:GREGORIAN
BEGIN:VEVENT
DTSTART:20241210T170000Z
DTEND:20241210T180000Z
X-MICROSOFT-CDO-ALLDAYEVENT:FALSE
SUMMARY:Bardstown Candle Co. Ribbon Cutting
DESCRIPTION:Join Us for a Ribbon Cutting\n\n\nBardstown Candle Co.\n\n\n\n108 W. Flaget Ave.\,  \n\nBardstown\, KY 40004\n\n\n\nDecember 10th \n\n12:00 - 1:00pm
X-ALT-DESC;FMTTYPE=text/html:<span style="font-family: sans-serif\, Arial\, Verdana\, &quot\;Trebuchet MS&quot\;\; font-size: 13px\;"><span style="font-family: arial\, sans-serif\; font-size: 26px\;">Join Us for a Ribbon Cutting</span></span>\n<div style="color: rgb(51\, 51\, 51)\; font-family: sans-serif\, Arial\, Verdana\, &quot\;Trebuchet MS&quot\;\;"><br />\n<span style="color: rgb(0\, 0\, 0)\;"><span style="font-size: 26px\;">Bardstown Candle Co.</span><br />\n<br style="font-family: arial\, sans-serif\; font-size: 26px\;" />\n<font face="arial\, sans-serif" style="font-size: 13px\;"><span style="font-size: 26px\;">108 W. Flaget Ave.\,&nbsp\;&nbsp\;<br />\nBardstown\, KY 40004</span></font><br style="font-family: arial\, sans-serif\; font-size: 26px\;" />\n<br style="font-family: arial\, sans-serif\; font-size: 26px\;" />\n<span style="font-size: 26px\; font-family: arial\, sans-serif\;">December 10th&nbsp\;</span><br style="font-family: arial\, sans-serif\; font-size: 26px\;" />\n<span style="font-size: 26px\; font-family: arial\, sans-serif\;">12:00 - 1:00pm</span></span></div>\n
LOCATION:
UID:e.2912.3474
SEQUENCE:3
DTSTAMP:20260424T170341Z
URL:https://members.bardstownchamber.com/events/details/bardstown-candle-co-ribbon-cutting-3474
END:VEVENT

END:VCALENDAR
