BEGIN:VCALENDAR
VERSION:2.0
PRODID:-//ChamberMaster//Event Calendar 2.0//EN
METHOD:PUBLISH
X-PUBLISHED-TTL:P3D
REFRESH-INTERVAL:P3D
CALSCALE:GREGORIAN
BEGIN:VEVENT
DTSTART:20180916T150000Z
DTEND:20180916T170000Z
X-MICROSOFT-CDO-ALLDAYEVENT:FALSE
SUMMARY:Bardstown BourbonBrunch
DESCRIPTION:My Old Ky Home Country Club would like to invite you to a bourbon inspired brunch to wrap up your Bourbon Festival week. Regain your strength and please your palette with a multitude of dishes to choose from on our buffet. Water\, tea\, coffee\, and O.J. are included with the buffet. Trying to recover from Saturday's festivities? We have you covered. A cash bar is available\, as well as $10 bottomless mimosas and a $10 Bloody Mary/Bourbon Mary topping bar equipped with enough olives\, pickles\, and meats to make your glass overflow. Call 502.348.3528 to reserve your place. Limited spots available. Bourbon Brunch Buffet tickets are $30 per person. A percentage of all sales will be donated to the Guthrie Opportunity Center to help improve the lives of individuals with disabilities.
X-ALT-DESC;FMTTYPE=text/html:My Old Ky Home Country Club would like to invite you to a bourbon inspired brunch to wrap up your Bourbon Festival week. Regain your strength and please your palette with a multitude of dishes to choose from on our buffet. Water\, tea\, coffee\, and O.J. are included with the buffet. Trying to recover from Saturday&#39\;s festivities? We have you covered. A cash bar is available\, as well as $10 bottomless mimosas and a $10 Bloody Mary/Bourbon Mary topping bar equipped with enough olives\, pickles\, and meats to make your glass overflow. Call 502.348.3528 to reserve your place. Limited spots available. Bourbon Brunch Buffet tickets are $30 per person. A percentage of all sales will be donated to the Guthrie Opportunity Center to help improve the lives of individuals with disabilities.
LOCATION:My Old Kentucky Home Country Club
UID:e.2912.1583
SEQUENCE:3
DTSTAMP:20260419T194717Z
URL:https://members.bardstownchamber.com/events/details/bardstown-bourbonbrunch-1583
END:VEVENT

END:VCALENDAR
