BEGIN:VCALENDAR
VERSION:2.0
PRODID:-//ChamberMaster//Event Calendar 2.0//EN
METHOD:PUBLISH
X-PUBLISHED-TTL:P3D
REFRESH-INTERVAL:P3D
CALSCALE:GREGORIAN
BEGIN:VEVENT
DTSTART;VALUE=DATE:20181013
DTEND;VALUE=DATE:20181015
TRANSP:TRANSPARENT
X-MICROSOFT-CDO-ALLDAYEVENT:TRUE
SUMMARY:Bardstown Arts\, Crafts & Antiques Fair
DESCRIPTION:Over 200 artisans and craftsmen display their talents. choose from handmade jewelry\, pottery\, antiques\, unique wood items.  Also enjoy delicious southern food.
X-ALT-DESC;FMTTYPE=text/html:Over 200 artisans and craftsmen display their talents. choose from handmade jewelry\, pottery\, antiques\, unique wood items.&nbsp\; Also enjoy delicious southern food.&nbsp\;
LOCATION:
UID:e.2912.1580
SEQUENCE:3
DTSTAMP:20260419T181933Z
URL:https://members.bardstownchamber.com/events/details/bardstown-arts-crafts-antiques-fair-1580
END:VEVENT

END:VCALENDAR
