BEGIN:VCALENDAR
VERSION:2.0
PRODID:-//ChamberMaster//Event Calendar 2.0//EN
METHOD:PUBLISH
X-PUBLISHED-TTL:P3D
REFRESH-INTERVAL:P3D
CALSCALE:GREGORIAN
BEGIN:VEVENT
DTSTART:20180725T220000Z
DTEND:20180725T230000Z
X-MICROSOFT-CDO-ALLDAYEVENT:FALSE
SUMMARY:Back to School Bash with Signature Healthcare
DESCRIPTION:Free school supplies for the kids\, with sweet treats to end summer break!
X-ALT-DESC;FMTTYPE=text/html:<span style="color: rgb(29\, 33\, 41)\; font-family: Helvetica\, Arial\, sans-serif\; font-size: 14px\; background-color: rgb(255\, 255\, 255)\;">Free school supplies for the kids\, with sweet treats to end summer break!</span>
LOCATION:pin Signature HealthCARE at Colonial Rehab & Wellness Center 708 Bartley Avenue\, Bardstown\, Kentucky 40004 Show Map
UID:e.2912.1534
SEQUENCE:3
DTSTAMP:20260419T225259Z
URL:https://members.bardstownchamber.com/events/details/back-to-school-bash-with-signature-healthcare-1534
END:VEVENT

END:VCALENDAR
