BEGIN:VCALENDAR
VERSION:2.0
PRODID:-//ChamberMaster//Event Calendar 2.0//EN
METHOD:PUBLISH
X-PUBLISHED-TTL:P3D
REFRESH-INTERVAL:P3D
CALSCALE:GREGORIAN
BEGIN:VEVENT
DTSTART:20210818T210000Z
DTEND:20210818T220000Z
X-MICROSOFT-CDO-ALLDAYEVENT:FALSE
SUMMARY:August Connect Hosted by Fairfield Inn & Suites
DESCRIPTION:Join us for the August Connect hosted by Fairfield Inn & Suites\, \n\nThe Blind Pig\, Grandma's Ice-cream\, Bullitt's Winery & Bistro \n\nNetworking\, Food\, Fun & Prizes!
X-ALT-DESC;FMTTYPE=text/html:Join us for the August Connect hosted by Fairfield Inn &amp\; Suites\,&nbsp\;<br />\nThe Blind Pig\, Grandma&#39\;s Ice-cream\, Bullitt&#39\;s Winery &amp\; Bistro&nbsp\;<br />\nNetworking\, Food\, Fun &amp\; Prizes!<br />\n<br />\n<br />\n&nbsp\;
LOCATION:1070 Morton Ave. Bardstown KY 40004
UID:e.2912.3009
SEQUENCE:3
DTSTAMP:20260424T225758Z
URL:https://members.bardstownchamber.com/events/details/august-connect-hosted-by-fairfield-inn-suites-3009
END:VEVENT

END:VCALENDAR
