BEGIN:VCALENDAR
VERSION:2.0
PRODID:-//ChamberMaster//Event Calendar 2.0//EN
METHOD:PUBLISH
X-PUBLISHED-TTL:P3D
REFRESH-INTERVAL:P3D
CALSCALE:GREGORIAN
BEGIN:VEVENT
DTSTART;VALUE=DATE:20181013
DTEND;VALUE=DATE:20181015
TRANSP:TRANSPARENT
X-MICROSOFT-CDO-ALLDAYEVENT:TRUE
SUMMARY:At Mary's Last Call Sale
DESCRIPTION:Shop ...At Mary's Last Call Sale during Bardstown's Arts & Crafts festival. Stay tuned for more details..
X-ALT-DESC;FMTTYPE=text/html:<span style="color: rgb(29\, 33\, 41)\; font-family: Helvetica\, Arial\, sans-serif\; font-size: 14px\; background-color: rgb(255\, 255\, 255)\;">Shop ...At Mary&#39\;s Last Call Sale during Bardstown&#39\;s Arts &amp\; Crafts festival. Stay tuned for more details..</span>
LOCATION:
UID:e.2912.1617
SEQUENCE:3
DTSTAMP:20260419T182052Z
URL:https://members.bardstownchamber.com/events/details/at-mary-s-last-call-sale-1617
END:VEVENT

END:VCALENDAR
