BEGIN:VCALENDAR
VERSION:2.0
PRODID:-//ChamberMaster//Event Calendar 2.0//EN
METHOD:PUBLISH
X-PUBLISHED-TTL:P3D
REFRESH-INTERVAL:P3D
CALSCALE:GREGORIAN
BEGIN:VEVENT
DTSTART:20180811T230000Z
DTEND:20180812T020000Z
X-MICROSOFT-CDO-ALLDAYEVENT:FALSE
SUMMARY:Ashley McBryde at Mammys
DESCRIPTION:pin\n			\n			\n			\n			\n			\n			\n			 \n\n			\n			Mammy's Kitchen\n\n			116 W Stephen Foster Ave\, Bardstown\, Kentucky 40004
X-ALT-DESC;FMTTYPE=text/html:<table cellpadding="0" cellspacing="0" class="uiGrid _51mz" style="border: 0px\; border-collapse: collapse\; border-spacing: 0px\; color: rgb(29\, 33\, 41)\; font-family: Helvetica\, Arial\, sans-serif\; font-size: 12px\; background-color: rgb(246\, 247\, 249)\;">\n	<tbody>\n		<tr class="_51mx">\n			<td class="_51m- _phw" style="font-family: inherit\; padding: 0px\;">\n			<div aria-hidden="true" class="_6a" style="display: inline-block\; font-family: inherit\;">\n			<div class="_6a _6b" style="display: inline-block\; vertical-align: middle\; font-family: inherit\;"><i class="_ohg img sp_mKbWz_ck_xH sx_7976fc" style="background-image: url(&quot\;/rsrc.php/v3/yb/r/k9xwRcWhSU_.png&quot\;)\; background-size: auto\; background-repeat: no-repeat\; display: block\; height: 16px\; width: 16px\; margin: 0px 10px 0px 12px\; background-position: 0px -171px\;"><u style="clip: rect(1px\, 1px\, 1px\, 1px)\; height: 1px\; left: auto\; overflow: hidden\; position: absolute\; white-space: nowrap\; width: 1px\;">pin</u></i></div>\n			</div>\n			</td>\n			<td class="_51m- _51mw" style="font-family: inherit\; padding-right: 0px\; padding-top: 0px\; padding-bottom: 0px\;">\n			<div class="_4930" style="align-items: center\; display: flex\; flex-direction: row\; width: 456px\; font-family: inherit\;">\n			<div class="_4dpf _phw" style="padding: 8px 0px\; flex-grow: 1\; font-family: inherit\;">\n			<div class="_6a" style="display: inline-block\; font-family: inherit\;">\n			<div class="_6a _6b" style="display: inline-block\; vertical-align: middle\; font-family: inherit\; height: 32px\;">&nbsp\;</div>\n\n			<div class="_6a _6b" style="display: inline-block\; vertical-align: middle\; font-family: inherit\;">\n			<div class="_xkh" style="margin: 2px 0px\; font-family: inherit\;"><a aria-describedby="js_6be" aria-owns="js_66v" class="_5xhk" data-hovercard="/ajax/hovercard/page.php?id=152384398151437" data-hovercard-prefer-more-content-show="1" href="https://www.facebook.com/btownmammys/" id="u_fetchstream_15_d" style="color: rgb(75\, 79\, 86)\; cursor: pointer\; position: relative\; z-index: 2\; font-family: inherit\; font-size: 14px\;">Mammy&#39\;s Kitchen</a>\n\n			<div class="_5xhp fsm fwn fcg" style="color: rgb(144\, 148\, 156)\; max-width: 376px\; overflow: hidden\; text-overflow: ellipsis\; white-space: nowrap\; font-family: inherit\;">116 W Stephen Foster Ave\, Bardstown\, Kentucky 40004</div>\n			</div>\n			</div>\n			</div>\n			</div>\n			</div>\n			</td>\n		</tr>\n	</tbody>\n</table>\n
LOCATION:Mammy"s Kitchen
UID:e.2912.1484
SEQUENCE:3
DTSTAMP:20260419T224126Z
URL:https://members.bardstownchamber.com/events/details/ashley-mcbryde-at-mammys-1484
END:VEVENT

END:VCALENDAR
