BEGIN:VCALENDAR
VERSION:2.0
PRODID:-//ChamberMaster//Event Calendar 2.0//EN
METHOD:PUBLISH
X-PUBLISHED-TTL:P3D
REFRESH-INTERVAL:P3D
CALSCALE:GREGORIAN
BEGIN:VEVENT
DTSTART:20180713T210000Z
DTEND:20180714T030000Z
X-MICROSOFT-CDO-ALLDAYEVENT:FALSE
SUMMARY:Annual July Festival
DESCRIPTION:Food\, Entertainment\, Games\, Fireworks and Fun. Come out and enjoy the evening with us.
X-ALT-DESC;FMTTYPE=text/html:Food\, Entertainment\, Games\, Fireworks and Fun. Come out and enjoy the evening with us.
LOCATION:Signature Healthcare at Colonial
UID:e.2912.1524
SEQUENCE:3
DTSTAMP:20260419T225132Z
URL:https://members.bardstownchamber.com/events/details/annual-july-festival-1524
END:VEVENT

END:VCALENDAR
