BEGIN:VCALENDAR
VERSION:2.0
PRODID:-//ChamberMaster//Event Calendar 2.0//EN
METHOD:PUBLISH
X-PUBLISHED-TTL:P3D
REFRESH-INTERVAL:P3D
CALSCALE:GREGORIAN
BEGIN:VEVENT
DTSTART:20180910T210000Z
DTEND:20180911T000000Z
X-MICROSOFT-CDO-ALLDAYEVENT:FALSE
SUMMARY:An Evening with Guthrie McKay
DESCRIPTION:Join Shop Local Bardstown and the Old Talbott Tavern as we host An Evening with Guthrie McKay during the 2018 Bourbon Festival. Guthrie has owned the World Famous Toddy's Liquors for nearly 3 decades and is renowned for his private barrel selections. Join us for an evening as he talks about the changes in the bourbon industry over the course of his career\, his bourbon tasting methods\, and shares stories from a lifetime in the bourbon industry as well as growing up in historic Bardstown.
X-ALT-DESC;FMTTYPE=text/html:Join Shop Local Bardstown and the Old Talbott Tavern as we host An Evening with Guthrie McKay during the 2018 Bourbon Festival. Guthrie has owned the World Famous Toddy&rsquo\;s Liquors for nearly 3 decades and is renowned for his private barrel selections. Join us for an evening as he talks about the changes in the bourbon industry over the course of his career\, his bourbon tasting methods\, and shares stories from a lifetime in the bourbon industry as well as growing up in historic Bardstown.
LOCATION:Talbott Tavern
UID:e.2912.1550
SEQUENCE:3
DTSTAMP:20260419T195122Z
URL:https://members.bardstownchamber.com/events/details/an-evening-with-guthrie-mckay-1550
END:VEVENT

END:VCALENDAR
