BEGIN:VCALENDAR
VERSION:2.0
PRODID:-//ChamberMaster//Event Calendar 2.0//EN
METHOD:PUBLISH
X-PUBLISHED-TTL:P3D
REFRESH-INTERVAL:P3D
CALSCALE:GREGORIAN
BEGIN:VEVENT
DTSTART:20200829T140000Z
DTEND:20200829T180000Z
X-MICROSOFT-CDO-ALLDAYEVENT:FALSE
SUMMARY:American Tire Pork Chop Event
DESCRIPTION:Support a Local Family\nSwing by American Tire on Saturday\, August 29th for a delicious pork chop lunch! All proceeds will benefit a local family in need. We will have more information for you at the event.\n\n\n\nPlease share with your family and friends. We look forward to seeing you.\n\n\n\n- American Tire Family
X-ALT-DESC;FMTTYPE=text/html:<h2>Support a Local Family</h2>\n<span style="color:#606060\;"><span style="font-family:helvetica\,sans-serif\;"><span style="font-size:11.5pt\;">Swing by American Tire on Saturday\, August 29th for a delicious pork chop lunch! All proceeds will benefit a local family in need. We will have more information for you at the event.<br />\n<br />\nPlease share with your family and friends. We look forward to seeing you.<br />\n<br />\n<em>- American Tire Family</em></span></span></span>
LOCATION:
UID:e.2912.2882
SEQUENCE:3
DTSTAMP:20260420T070635Z
URL:https://members.bardstownchamber.com/events/details/american-tire-pork-chop-event-2882
END:VEVENT

END:VCALENDAR
