BEGIN:VCALENDAR
VERSION:2.0
PRODID:-//ChamberMaster//Event Calendar 2.0//EN
METHOD:PUBLISH
X-PUBLISHED-TTL:P3D
REFRESH-INTERVAL:P3D
CALSCALE:GREGORIAN
BEGIN:VEVENT
DTSTART:20181025T160000Z
DTEND:20181025T170000Z
X-MICROSOFT-CDO-ALLDAYEVENT:FALSE
SUMMARY:Ambassador Meeting at the Library
DESCRIPTION:201 Cathedral Manor\, Bardstown\, KY 40004
X-ALT-DESC;FMTTYPE=text/html:<span style="color: rgb(34\, 34\, 34)\; font-family: Roboto\, arial\, sans-serif\; font-size: small\; background-color: rgb(255\, 255\, 255)\;">201 Cathedral Manor\, Bardstown\, KY 40004</span>
LOCATION:
UID:e.2912.1623
SEQUENCE:3
DTSTAMP:20260419T195155Z
URL:https://members.bardstownchamber.com/events/details/ambassador-meeting-at-the-library-1623
END:VEVENT

END:VCALENDAR
