BEGIN:VCALENDAR
VERSION:2.0
PRODID:-//ChamberMaster//Event Calendar 2.0//EN
METHOD:PUBLISH
X-PUBLISHED-TTL:P3D
REFRESH-INTERVAL:P3D
CALSCALE:GREGORIAN
BEGIN:VEVENT
DTSTART:20210909T160000Z
DTEND:20210909T170000Z
X-MICROSOFT-CDO-ALLDAYEVENT:FALSE
SUMMARY:Ambassador Meeting
DESCRIPTION:Meeting at Holiday Inn Express & Suites \n\nYou can order food from Uncle Spoony's and we will have it their for you. We will bring drinks.
X-ALT-DESC;FMTTYPE=text/html:Meeting at Holiday Inn Express &amp\; Suites&nbsp\;<br />\nYou can order food from Uncle Spoony&#39\;s and we will have it their for you. We will bring drinks.&nbsp\;
LOCATION:Side Items to choose from Green Beans Mashed Potatoes Loaded Mashed Mac & Cheese Baked Beans Baked Apples Cole slaw Onion Rings French Fries
UID:e.2912.3022
SEQUENCE:3
DTSTAMP:20260424T212647Z
URL:https://members.bardstownchamber.com/events/details/ambassador-meeting-3022
END:VEVENT

END:VCALENDAR
