BEGIN:VCALENDAR
VERSION:2.0
PRODID:-//ChamberMaster//Event Calendar 2.0//EN
METHOD:PUBLISH
X-PUBLISHED-TTL:P3D
REFRESH-INTERVAL:P3D
CALSCALE:GREGORIAN
BEGIN:VEVENT
DTSTART:20210713T160000Z
DTEND:20210713T163000Z
X-MICROSOFT-CDO-ALLDAYEVENT:FALSE
SUMMARY:Alzheimer's in the Workplace: The Impact on Caregivers & Their Employers
DESCRIPTION:As a business and community leader\, I invite you to join me for a virtual gathering on Tuesday\, July 13th from 12:00 - 12:30 p.m. EST to hear how Alzheimer's and dementia show up every day at work. \n\n\n\nRegister and receive Zoom virtual meeting link at https://bit.ly/Alzh13  If you are not able to join or there is a more appropriate representative to join on behalf of your company\, please share this invitation and encourage registration.  This will be time well spent for you and your company!
X-ALT-DESC;FMTTYPE=text/html:<h2><span style="font-size:14px"><span style="font-family:arial\,helvetica\,sans-serif"><span style="color:rgba(0\, 0\, 0\, 0.9)">As a business and community leader\, I invite you to join me for a virtual gathering on Tuesday\, July 13th from 12:00 - 12:30 p.m. EST to hear how Alzheimer&rsquo\;s and dementia show up every day at work.&nbsp\;</span><br />\n<br />\n<strong><span style="color:rgba(0\, 0\, 0\, 0.9)">Register and receive Zoom virtual meeting link at&nbsp\;</span><a href="https://bit.ly/Alzh13" style="box-sizing: inherit\; margin: 0px\; padding: 0px\; font-size: 14px\; vertical-align: baseline\; background-image: initial\; background-position: initial\; background-size: initial\; background-repeat: initial\; background-attachment: initial\; background-origin: initial\; background-clip: initial\; text-decoration-line: none\; font-weight: var(--font-weight-bold)\; border: 0px\; color: var(--color-action)\; touch-action: manipulation\; position: relative\; font-family: -apple-system\, system-ui\, BlinkMacSystemFont\, &quot\;Segoe UI&quot\;\, Roboto\, &quot\;Helvetica Neue&quot\;\, &quot\;Fira Sans&quot\;\, Ubuntu\, Oxygen\, &quot\;Oxygen Sans&quot\;\, Cantarell\, &quot\;Droid Sans&quot\;\, &quot\;Apple Color Emoji&quot\;\, &quot\;Segoe UI Emoji&quot\;\, &quot\;Segoe UI Symbol&quot\;\, &quot\;Lucida Grande&quot\;\, Helvetica\, Arial\, sans-serif\; line-height: inherit !important\;">https://bit.ly/Alzh13</a></strong><span style="color:rgba(0\, 0\, 0\, 0.9)"><strong>&nbsp\;</strong> If you are not able to join or there is a more appropriate representative to join on behalf of your company\, please share this invitation and encourage registration.&nbsp\; This will be time well spent for you and your company!</span></span></span></h2>\n
LOCATION:Zoom Virtual Event - please register at https://bit.ly/Alzh13
UID:e.2912.2997
SEQUENCE:3
DTSTAMP:20260425T013019Z
URL:https://members.bardstownchamber.com/events/details/alzheimer-s-in-the-workplace-the-impact-on-caregivers-their-employers-2997
END:VEVENT

END:VCALENDAR
