BEGIN:VCALENDAR
VERSION:2.0
PRODID:-//ChamberMaster//Event Calendar 2.0//EN
METHOD:PUBLISH
X-PUBLISHED-TTL:P3D
REFRESH-INTERVAL:P3D
CALSCALE:GREGORIAN
BEGIN:VEVENT
DTSTART:20181013T170000Z
DTEND:20181013T190000Z
X-MICROSOFT-CDO-ALLDAYEVENT:FALSE
SUMMARY:Allied Weight Loss & Wellness
DESCRIPTION:Come join us for our Open House on Saturday\, October 13th from 1-3pm!\n\nMeet our wellness professionals and find out how they can help you.\n\nWe'll also be providing cooking demos with our executive Chef and DOOR PRIZES!!!!
X-ALT-DESC;FMTTYPE=text/html:<p style="margin: 0px 0px 6px\; font-family: Helvetica\, Arial\, sans-serif\; color: rgb(29\, 33\, 41)\; font-size: 14px\; background-color: rgb(255\, 255\, 255)\;">Come join us for our Open House on Saturday\, October 13th from 1-3pm!</p>\n\n<p style="margin: 6px 0px\; font-family: Helvetica\, Arial\, sans-serif\; color: rgb(29\, 33\, 41)\; font-size: 14px\; background-color: rgb(255\, 255\, 255)\;">Meet our wellness professionals and find out how they can help you.</p>\n\n<p style="margin: 6px 0px 0px\; display: inline\; font-family: Helvetica\, Arial\, sans-serif\; color: rgb(29\, 33\, 41)\; font-size: 14px\; background-color: rgb(255\, 255\, 255)\;">We&#39\;ll also be providing cooking demos with our executive Chef and DOOR PRIZES!!!!</p>\n
LOCATION:
UID:e.2912.1605
SEQUENCE:3
DTSTAMP:20260419T194521Z
URL:https://members.bardstownchamber.com/events/details/allied-weight-loss-wellness-1605
END:VEVENT

END:VCALENDAR
