BEGIN:VCALENDAR
VERSION:2.0
PRODID:-//ChamberMaster//Event Calendar 2.0//EN
METHOD:PUBLISH
X-PUBLISHED-TTL:P3D
REFRESH-INTERVAL:P3D
CALSCALE:GREGORIAN
BEGIN:VEVENT
DTSTART:20181009T160000Z
DTEND:20181009T170000Z
X-MICROSOFT-CDO-ALLDAYEVENT:FALSE
SUMMARY:Allied Weight Loss & Wellness
DESCRIPTION:Please Join the Bardstown-Nelson Chamber of Commerce as we welcome a new member and have a ribbon cutting. \n \n\n\n201 Culpeper St.\n\nBardstown\, Kentucky\n\n@ Noon
X-ALT-DESC;FMTTYPE=text/html:Please Join the Bardstown-Nelson Chamber of Commerce as we welcome a new member and have a ribbon cutting.&nbsp\;\n<div>&nbsp\;</div>\n\n<div>\n<div style="font-family: Helvetica\, Arial\, sans-serif\; color: rgb(29\, 33\, 41)\; font-size: 12px\; background-color: rgb(255\, 255\, 255)\;"><span class="_2iem" style="font-size: 14px\; line-height: 18px\; font-family: inherit\;">201 Culpeper St.</span></div>\n\n<div style="font-family: Helvetica\, Arial\, sans-serif\; color: rgb(29\, 33\, 41)\; font-size: 12px\; background-color: rgb(255\, 255\, 255)\;"><span class="_2iem" style="font-size: 14px\; line-height: 18px\; font-family: inherit\;">Bardstown\, Kentucky</span><br />\n@ Noon&nbsp\;</div>\n</div>\n
LOCATION:
UID:e.2912.1604
SEQUENCE:3
DTSTAMP:20260419T181804Z
URL:https://members.bardstownchamber.com/events/details/allied-weight-loss-wellness-1604
END:VEVENT

END:VCALENDAR
