BEGIN:VCALENDAR
VERSION:2.0
PRODID:-//ChamberMaster//Event Calendar 2.0//EN
METHOD:PUBLISH
X-PUBLISHED-TTL:P3D
REFRESH-INTERVAL:P3D
CALSCALE:GREGORIAN
BEGIN:VEVENT
DTSTART:20221004T160000Z
DTEND:20221004T170000Z
X-MICROSOFT-CDO-ALLDAYEVENT:FALSE
SUMMARY:Agency Title Inc Ribbon Cutting
DESCRIPTION:Join us for a Ribbon Cutting! \n\n\n\nAgency Title Inc\n\n650 East John Rowan Blvd.\,\n\nBardstown\, KY 40004\n\n\n\nOctober 4th\, 2022\n\n12:00 pm
X-ALT-DESC;FMTTYPE=text/html:<span style="color:#000000\;"><span style="font-family: arial\; font-size: 26px\; background-color: rgb(255\, 255\, 255)\;">Join us for a Ribbon Cutting!&nbsp\;</span><br style="font-size: 26px\; color: rgb(51\, 51\, 51)\; font-family: sans-serif\, Arial\, Verdana\, &quot\;Trebuchet MS&quot\;\; background-color: rgb(255\, 255\, 255)\;" />\n<br style="font-size: 26px\; color: rgb(51\, 51\, 51)\; font-family: sans-serif\, Arial\, Verdana\, &quot\;Trebuchet MS&quot\;\; background-color: rgb(255\, 255\, 255)\;" />\n<span style="font-family: arial\; font-size: 26px\; background-color: rgb(255\, 255\, 255)\;">Agency Title Inc</span><br style="font-family: arial\; font-size: 26px\; background-color: rgb(255\, 255\, 255)\;" />\n<font face="arial"><span style="font-size: 26px\;">650 East John Rowan Blvd.\,</span></font><br style="font-size: 26px\; color: rgb(51\, 51\, 51)\; font-family: sans-serif\, Arial\, Verdana\, &quot\;Trebuchet MS&quot\;\; background-color: rgb(255\, 255\, 255)\;" />\n<span style="font-family: arial\; font-size: 26px\; background-color: rgb(255\, 255\, 255)\;">Bardstown\, KY 40004</span><br style="font-size: 26px\; color: rgb(51\, 51\, 51)\; font-family: sans-serif\, Arial\, Verdana\, &quot\;Trebuchet MS&quot\;\; background-color: rgb(255\, 255\, 255)\;" />\n<br style="font-size: 26px\; color: rgb(51\, 51\, 51)\; font-family: sans-serif\, Arial\, Verdana\, &quot\;Trebuchet MS&quot\;\; background-color: rgb(255\, 255\, 255)\;" />\n<span style="font-family: arial\; font-size: 26px\; background-color: rgb(255\, 255\, 255)\;">October 4th\, 2022</span><br style="font-size: 26px\; color: rgb(51\, 51\, 51)\; font-family: sans-serif\, Arial\, Verdana\, &quot\;Trebuchet MS&quot\;\; background-color: rgb(255\, 255\, 255)\;" />\n<span style="font-family: arial\; font-size: 26px\; background-color: rgb(255\, 255\, 255)\;">12:00 pm</span></span>
LOCATION:
UID:e.2912.3170
SEQUENCE:3
DTSTAMP:20260419T145529Z
URL:https://members.bardstownchamber.com/events/details/agency-title-inc-ribbon-cutting-3170
END:VEVENT

END:VCALENDAR
