BEGIN:VCALENDAR
VERSION:2.0
PRODID:-//ChamberMaster//Event Calendar 2.0//EN
METHOD:PUBLISH
X-PUBLISHED-TTL:P3D
REFRESH-INTERVAL:P3D
CALSCALE:GREGORIAN
BEGIN:VEVENT
DTSTART:20200819T140000Z
DTEND:20200819T150000Z
X-MICROSOFT-CDO-ALLDAYEVENT:FALSE
SUMMARY:Advertise Local- Business Roundtable
DESCRIPTION:Advertise Local \n\nWe talk about shop local\, but what about Advertise Local? \n\nGain insight to Why it Matters to advertise local and tips on where to spend advertising dollars.
X-ALT-DESC;FMTTYPE=text/html:<p dir="ltr" style="line-height:1.38\;margin-top:0pt\;margin-bottom:0pt\;"><span id="docs-internal-guid-612b547c-7fff-ccd3-7185-039d1893bc80"><span style="font-size: 11pt\; font-family: Arial\; font-weight: 700\; font-variant-numeric: normal\; font-variant-east-asian: normal\; vertical-align: baseline\; white-space: pre-wrap\;">Advertise Local&nbsp\;</span></span></p>\n\n<p dir="ltr" style="line-height:1.38\;margin-top:0pt\;margin-bottom:0pt\;"><span id="docs-internal-guid-612b547c-7fff-ccd3-7185-039d1893bc80"><span style="font-size: 11pt\; font-family: Arial\; font-variant-numeric: normal\; font-variant-east-asian: normal\; vertical-align: baseline\; white-space: pre-wrap\;">We talk about shop local\, but what about Advertise Local?&nbsp\;</span></span></p>\n\n<p dir="ltr" style="line-height:1.38\;margin-top:0pt\;margin-bottom:0pt\;"><span id="docs-internal-guid-612b547c-7fff-ccd3-7185-039d1893bc80"><span style="font-size: 11pt\; font-family: Arial\; font-variant-numeric: normal\; font-variant-east-asian: normal\; vertical-align: baseline\; white-space: pre-wrap\;">Gain insight to Why it Matters to advertise local and tips on where to spend advertising dollars.</span></span></p>\n\n<div>&nbsp\;</div>\n
LOCATION:Online on Zoom Link provided after registration
UID:e.2912.2879
SEQUENCE:3
DTSTAMP:20260420T054024Z
URL:https://members.bardstownchamber.com/events/details/advertise-local-business-roundtable-2879
END:VEVENT

END:VCALENDAR
