BEGIN:VCALENDAR
VERSION:2.0
PRODID:-//ChamberMaster//Event Calendar 2.0//EN
METHOD:PUBLISH
X-PUBLISHED-TTL:P3D
REFRESH-INTERVAL:P3D
CALSCALE:GREGORIAN
BEGIN:VEVENT
DTSTART:20210729T133000Z
DTEND:20210729T200000Z
X-MICROSOFT-CDO-ALLDAYEVENT:FALSE
SUMMARY:Adult Mental Health First Aid (MHFA)
DESCRIPTION:Adult Mental Health First Aid (MHFA)\n\nWhen: Tuesday\, June 29 9:30am-4:30pm (EST)\n\nWhere: Zoom (Approximately 2 hrs of pre-work is required)\n\nDescription:  Mental Health First Aid for Adults teaches people how to recognize signs of mental health or substance use challenges in adults ages 18 and older\, how to offer and provide initial help\, and how to guide a person toward appropriate care if necessary. Topics covered include anxiety\, depression\, psychosis\, substance use\, and suicide.\n\nRegistration:  https://redcap.uky.edu/redcap/surveys/?s=7P33NCCMRH
X-ALT-DESC;FMTTYPE=text/html:<strong><span style="color:black\;"><span style="font-family:calibri\,sans-serif\;">Adult Mental Health First Aid (MHFA)</span></span></strong><br />\n<strong><span style="color:black\;"><span style="font-family:calibri\,sans-serif\;">When</span></span></strong><span style="color:black\;">: Tuesday\, June 29 9:30am-4:30pm (EST)</span><br />\n<strong><span style="color:black\;"><span style="font-family:calibri\,sans-serif\;">Where</span></span></strong><span style="color:black\;">: Zoom (Approximately 2 hrs of pre-work is required)</span><br />\n<strong><span style="color:black\;"><span style="font-family:calibri\,sans-serif\;">Description</span></span></strong><span style="color:black\;">:&nbsp\; Mental Health First Aid for Adults teaches people how to recognize signs of mental health or substance use challenges in adults ages 18 and older\, how to offer and provide initial help\, and how to guide a person toward appropriate care if necessary. Topics covered include anxiety\, depression\, psychosis\, substance use\, and suicide.</span><br />\n<strong><span style="color:black\;"><span style="font-family:calibri\,sans-serif\;">Registration</span></span></strong><span style="color:black\;">:&nbsp\;&nbsp\;<a href="https://redcap.uky.edu/redcap/surveys/?s=7P33NCCMRH" target="_blank">https://redcap.uky.edu/redcap/surveys/?s=7P33NCCMRH</a></span>
LOCATION:
UID:e.2912.2990
SEQUENCE:3
DTSTAMP:20260425T012836Z
URL:https://members.bardstownchamber.com/events/details/adult-mental-health-first-aid-mhfa-2990
END:VEVENT

END:VCALENDAR
