BEGIN:VCALENDAR
VERSION:2.0
PRODID:-//ChamberMaster//Event Calendar 2.0//EN
METHOD:PUBLISH
X-PUBLISHED-TTL:P3D
REFRESH-INTERVAL:P3D
CALSCALE:GREGORIAN
BEGIN:VEVENT
DTSTART:20180913T140000Z
DTEND:20180913T160000Z
X-MICROSOFT-CDO-ALLDAYEVENT:FALSE
SUMMARY:A Whiskey & Its Grains
DESCRIPTION:Come join us for an in-depth class that examines how each individual grain can greatly affect the spirit that comes off the still. We will examine corn\, rye\, wheat\, and malted barley the four grains that make up 99% of whiskies and how each grain adds its own specific flavors and aromas to whiskey. Learn the nuances of each grain and how it will impact the final product. We will also cover the fast-growing trend of using alternative grains and how those will change the whiskies that we know and love. Instruction includes a thorough analysis of each individual grain distillate\, as well as the production process of milling\, cooking\, fermentation\, and distillation. Brought to you by our friends at Moonshine University .
X-ALT-DESC;FMTTYPE=text/html:Come join us for an in-depth class that examines how each individual grain can greatly affect the spirit that comes off the still. We will examine corn\, rye\, wheat\, and malted barley&mdash\;the four grains that make up 99% of whiskies&mdash\;and how each grain adds its own specific flavors and aromas to whiskey. Learn the nuances of each grain and how it will impact the final product. We will also cover the fast-growing trend of using alternative grains and how those will change the whiskies that we know and love. Instruction includes a thorough analysis of each individual grain distillate\, as well as the production process of milling\, cooking\, fermentation\, and distillation. Brought to you by our friends at Moonshine University&reg\;.
LOCATION:Spalding Hall Chapel\, 114 N. Fifth St.\, Bardstown\, KY 40004
UID:e.2912.1488
SEQUENCE:3
DTSTAMP:20260419T211701Z
URL:https://members.bardstownchamber.com/events/details/a-whiskey-its-grains-1488
END:VEVENT

END:VCALENDAR
