BEGIN:VCALENDAR
VERSION:2.0
PRODID:-//ChamberMaster//Event Calendar 2.0//EN
METHOD:PUBLISH
X-PUBLISHED-TTL:P3D
REFRESH-INTERVAL:P3D
CALSCALE:GREGORIAN
BEGIN:VEVENT
DTSTART:20200204T170000Z
DTEND:20200204T171500Z
X-MICROSOFT-CDO-ALLDAYEVENT:FALSE
SUMMARY:75th Year Kiwansis Club of bardstown Celebration Ribbon Cutting
DESCRIPTION:Join the Bardstown-Nelson Chamber as we celebrate with Kiwanis Club of Bardstown for their 75th Anniversary. Location Mammy's Kitchen 116 W. Stephen Foster Ave.
X-ALT-DESC;FMTTYPE=text/html:Join the Bardstown-Nelson Chamber as we celebrate with Kiwanis Club of Bardstown for their 75th Anniversary. Location Mammy&#39\;s Kitchen&nbsp\;<span style="color: rgb(51\, 51\, 51)\; font-family: Roboto\, sans-serif\; font-size: 13px\; background-color: rgb(255\, 255\, 255)\;">116 W. Stephen Foster Ave.</span>&nbsp\;
LOCATION:
UID:e.2912.2829
SEQUENCE:3
DTSTAMP:20260419T225447Z
URL:https://members.bardstownchamber.com/events/details/75th-year-kiwansis-club-of-bardstown-celebration-ribbon-cutting-2829
END:VEVENT

END:VCALENDAR
