BEGIN:VCALENDAR
VERSION:2.0
PRODID:-//ChamberMaster//Event Calendar 2.0//EN
METHOD:PUBLISH
X-PUBLISHED-TTL:P3D
REFRESH-INTERVAL:P3D
CALSCALE:GREGORIAN
BEGIN:VEVENT
DTSTART:20190601T110000Z
DTEND:20190601T140000Z
X-MICROSOFT-CDO-ALLDAYEVENT:FALSE
SUMMARY:5K Autism Awareness Walk/Run
DESCRIPTION:Cody Mayfield Memorial Foundation\, Inc.\, a non-profit organization based in Nelson County\, Kentucky\, is hosting a 5K Autism Awareness Walk/Run\; an untimed fun walk/run for abilities. All proceeds benefit the organization's current programs.
X-ALT-DESC;FMTTYPE=text/html:Cody Mayfield Memorial Foundation\, Inc.\, a non-profit organization based in Nelson County\, Kentucky\, is hosting a 5K Autism Awareness Walk/Run\; an untimed fun walk/run for abilities. All proceeds benefit the organization&#39\;s current programs.
LOCATION:Dean Watts Park CR-1001 Bardstown\, KY 40004 (Off of Spencer Mattingly Lane)
UID:e.2912.1733
SEQUENCE:3
DTSTAMP:20260419T083444Z
URL:https://members.bardstownchamber.com/events/details/5k-autism-awareness-walk-run-1733
END:VEVENT

END:VCALENDAR
