BEGIN:VCALENDAR
VERSION:2.0
PRODID:-//ChamberMaster//Event Calendar 2.0//EN
METHOD:PUBLISH
X-PUBLISHED-TTL:P3D
REFRESH-INTERVAL:P3D
CALSCALE:GREGORIAN
BEGIN:VEVENT
DTSTART:20181017T210000Z
DTEND:20181017T220000Z
X-MICROSOFT-CDO-ALLDAYEVENT:FALSE
SUMMARY:5:01 Connect - Business After Hours/ October 2018
DESCRIPTION:Member Benefit: \n\nThe 5:01 gives our members a place to network with other business members as well as learn about all that the Sponsors business has to offer.\n\nA Special Pink Cocktail celebrating Breast Cancer Awareness Month will be served courtesy of Beam Suntory!
X-ALT-DESC;FMTTYPE=text/html:<strong><span style="font-family:calibri\,sans-serif\;"><span style="font-size:11.0pt\;">Member Benefit: </span></span></strong><br />\n<span style="font-family:calibri\,sans-serif\;"><span style="font-size:11.0pt\;">The 5:01 gives our members a place to network with other business members as well as learn about all that the Sponsors business has to offer.</span></span><br />\n<span style="color: rgb(255\, 51\, 153)\; font-family: sans-serif\, Arial\, Verdana\, &quot\;Trebuchet MS&quot\;\; font-size: 16px\; background-color: rgb(255\, 255\, 255)\;">A Special Pink Cocktail celebrating Breast Cancer Awareness Month will be served courtesy of Beam Suntory!&nbsp\;</span>
LOCATION:Flaget Memorial Hospital 4305 New Shepherdsville Road Bardtown\, KY 40004
UID:e.2912.1426
SEQUENCE:3
DTSTAMP:20260419T181959Z
URL:https://members.bardstownchamber.com/events/details/5-01-connect-business-after-hours-october-2018-1426
END:VEVENT

END:VCALENDAR
