BEGIN:VCALENDAR
VERSION:2.0
PRODID:-//ChamberMaster//Event Calendar 2.0//EN
METHOD:PUBLISH
X-PUBLISHED-TTL:P3D
REFRESH-INTERVAL:P3D
CALSCALE:GREGORIAN
BEGIN:VEVENT
DTSTART:20181120T220000Z
DTEND:20181120T230000Z
X-MICROSOFT-CDO-ALLDAYEVENT:FALSE
SUMMARY:5:01 Connect - Business After Hours/ November 2018
DESCRIPTION:Member Benefit: \n\nThe 5:01 gives our members a place to network with other business members as well as learn about all that the Sponsors business has to offer.\n\n\n\nComplimentary Refreshments\n\nGreat Networking Opportunity\n\nBusiness Card Drawing
X-ALT-DESC;FMTTYPE=text/html:<span style="font-family:arial\;"><span style="font-size:18px\;"><strong>Member Benefit: </strong><br />\nThe 5:01 gives our members a place to network with other business members as well as learn about all that the Sponsors business has to offer.<br />\n<br />\n<span background-color:="" font-size:="" style="color: rgb(51\, 51\, 51)\; font-family: sans-serif\, Arial\, Verdana\, " trebuchet="">Complimentary Refreshments</span><br background-color:="" font-size:="" style="color: rgb(51\, 51\, 51)\; font-family: sans-serif\, Arial\, Verdana\, " trebuchet="" />\n<span background-color:="" font-size:="" style="color: rgb(51\, 51\, 51)\; font-family: sans-serif\, Arial\, Verdana\, " trebuchet="">Great Networking Opportunity</span><br background-color:="" font-size:="" style="color: rgb(51\, 51\, 51)\; font-family: sans-serif\, Arial\, Verdana\, " trebuchet="" />\n<span background-color:="" font-size:="" style="color: rgb(51\, 51\, 51)\; font-family: sans-serif\, Arial\, Verdana\, " trebuchet="">Business Card Drawing</span></span></span>
LOCATION:Heaven Hill Bourbon Heritage Center 1311 Gilkey Run Rd. Bardstown\, KY 40004
UID:e.2912.1427
SEQUENCE:3
DTSTAMP:20260419T163802Z
URL:https://members.bardstownchamber.com/events/details/5-01-connect-business-after-hours-november-2018-1427
END:VEVENT

END:VCALENDAR
