BEGIN:VCALENDAR
VERSION:2.0
PRODID:-//ChamberMaster//Event Calendar 2.0//EN
METHOD:PUBLISH
X-PUBLISHED-TTL:P3D
REFRESH-INTERVAL:P3D
CALSCALE:GREGORIAN
BEGIN:VEVENT
DTSTART:20180328T210000Z
DTEND:20180328T220000Z
X-MICROSOFT-CDO-ALLDAYEVENT:FALSE
SUMMARY:5:01 Connect - Business After Hours/ March 2018
DESCRIPTION:Member Benefit: \n\nThe 5:01 gives our members a place to network with other business members as well as learn about all that the Sponsors business has to offer.
X-ALT-DESC;FMTTYPE=text/html:<strong><span style="font-family:calibri\,sans-serif\;"><span style="font-size:11.0pt\;">Member Benefit: </span></span></strong><br />\n<span style="font-family:calibri\,sans-serif\;"><span style="font-size:11.0pt\;">The 5:01 gives our members a place to network with other business members as well as learn about all that the Sponsors business has to offer.</span></span>
LOCATION:Sponsored by WBRT\, WOKH\, & Hampton Inn Hampton Inn 985 Chambers Blvd Bardstown\, KY 40004
UID:e.2912.1418
SEQUENCE:3
DTSTAMP:20260420T040425Z
URL:https://members.bardstownchamber.com/events/details/5-01-connect-business-after-hours-march-2018-1418
END:VEVENT

END:VCALENDAR
