BEGIN:VCALENDAR
VERSION:2.0
PRODID:-//ChamberMaster//Event Calendar 2.0//EN
METHOD:PUBLISH
X-PUBLISHED-TTL:P3D
REFRESH-INTERVAL:P3D
CALSCALE:GREGORIAN
BEGIN:VEVENT
DTSTART:20180620T210000Z
DTEND:20180620T220000Z
X-MICROSOFT-CDO-ALLDAYEVENT:FALSE
SUMMARY:5:01 Connect - Business After Hours/ June 2018
DESCRIPTION:Member Benefit: \n\nThe 5:01 gives our members a place to network with other business members as well as learn about all that the Sponsors business has to offer.
X-ALT-DESC;FMTTYPE=text/html:<span style="font-size:14px\;"><span style="font-family:arial\;"><strong>Member Benefit: </strong><br />\nThe 5:01 gives our members a place to network with other business members as well as learn about all that the Sponsors business has to offer.</span></span>
LOCATION:Lux Row Distillers 1 Lux Row (3050 E John Rowan Blvd) Bardstown\, KY 40004
UID:e.2912.1422
SEQUENCE:3
DTSTAMP:20260420T010450Z
URL:https://members.bardstownchamber.com/events/details/5-01-connect-business-after-hours-june-2018-1422
END:VEVENT

END:VCALENDAR
