BEGIN:VCALENDAR
VERSION:2.0
PRODID:-//ChamberMaster//Event Calendar 2.0//EN
METHOD:PUBLISH
X-PUBLISHED-TTL:P3D
REFRESH-INTERVAL:P3D
CALSCALE:GREGORIAN
BEGIN:VEVENT
DTSTART:20180221T220000Z
DTEND:20180221T230000Z
X-MICROSOFT-CDO-ALLDAYEVENT:FALSE
SUMMARY:5:01 Connect - Business After Hours/ February 2018
DESCRIPTION:Member Benefit: \n\nThe 5:01 gives our members a place to network with other business members as well as learn about all that the Sponsors business has to offer.
X-ALT-DESC;FMTTYPE=text/html:<span style="font-family:arial\;"><strong><span style="font-size:11.0pt\;">Member Benefit: </span></strong><br />\n<span style="font-size:11.0pt\;">The 5:01 gives our members a place to network with other business members as well as learn about all that the Sponsors business has to offer.</span></span>
LOCATION:Kentucky Gun Co. 401 Glenwood Dr Bardstown\, KY 40004
UID:e.2912.1416
SEQUENCE:3
DTSTAMP:20260420T054228Z
URL:https://members.bardstownchamber.com/events/details/5-01-connect-business-after-hours-february-2018-1416
END:VEVENT

END:VCALENDAR
