BEGIN:VCALENDAR
VERSION:2.0
PRODID:-//ChamberMaster//Event Calendar 2.0//EN
METHOD:PUBLISH
X-PUBLISHED-TTL:P3D
REFRESH-INTERVAL:P3D
CALSCALE:GREGORIAN
BEGIN:VEVENT
DTSTART:20181219T220000Z
DTEND:20181219T230000Z
X-MICROSOFT-CDO-ALLDAYEVENT:FALSE
SUMMARY:5:01 Connect - Business After Hours/ December 2018
DESCRIPTION:Member Benefit: \n\nThe 5:01 gives our members a place to network with other business members as well as learn about all that the Sponsors business has to offer.\n\n\n\nComplimentary Refreshments by Colton's Steak House and Grill\n\nBourbon Tasting by The Blind Pig Speakeasy\n\nGreat Networking Opportunity\n\nBusiness Card Drawing
X-ALT-DESC;FMTTYPE=text/html:<span style="font-family:arial\;"><span style="font-size:18px\;"><strong>Member Benefit: </strong><br />\nThe 5:01 gives our members a place to network with other business members as well as learn about all that the Sponsors business has to offer.<br />\n<br />\n<span background-color:="" font-size:="" style="color: rgb(51\, 51\, 51)\; font-family: sans-serif\, Arial\, Verdana\, " trebuchet="">Complimentary Refreshments by Colton&#39\;s Steak House and Grill<br />\nBourbon Tasting by The Blind Pig Speakeasy</span><br background-color:="" font-size:="" style="color: rgb(51\, 51\, 51)\; font-family: sans-serif\, Arial\, Verdana\, " trebuchet="" />\n<span background-color:="" font-size:="" style="color: rgb(51\, 51\, 51)\; font-family: sans-serif\, Arial\, Verdana\, " trebuchet="">Great Networking Opportunity</span><br background-color:="" font-size:="" style="color: rgb(51\, 51\, 51)\; font-family: sans-serif\, Arial\, Verdana\, " trebuchet="" />\n<span background-color:="" font-size:="" style="color: rgb(51\, 51\, 51)\; font-family: sans-serif\, Arial\, Verdana\, " trebuchet="">Business Card Drawing</span></span></span>
LOCATION:Bluegrass Hearing Clinic\, LLC 202 W. Stephen Foster Ave.\, Ste. A Bardstown\, KY 40004
UID:e.2912.1428
SEQUENCE:3
DTSTAMP:20260419T163812Z
URL:https://members.bardstownchamber.com/events/details/5-01-connect-business-after-hours-december-2018-1428
END:VEVENT

END:VCALENDAR
