BEGIN:VCALENDAR
VERSION:2.0
PRODID:-//ChamberMaster//Event Calendar 2.0//EN
METHOD:PUBLISH
X-PUBLISHED-TTL:P3D
REFRESH-INTERVAL:P3D
CALSCALE:GREGORIAN
BEGIN:VEVENT
DTSTART;VALUE=DATE:20171220
DTEND;VALUE=DATE:20171221
TRANSP:TRANSPARENT
X-MICROSOFT-CDO-ALLDAYEVENT:TRUE
SUMMARY:5:01 Connect - Business After Hours/ December 2017
DESCRIPTION:Former UK Basketball Players Jeff Sheppard and Cameron Mills on site for autographs. \n\n\n\nMember Benefit: \n\nThe 5:01 gives our members a place to network with other business members as well as learn about all that the Sponsors business has to offer.\n\n\n\nComplimentary Refreshments\n\nGreat Networking Opportunity\n\nBusiness Card Drawing
X-ALT-DESC;FMTTYPE=text/html:<span style="font-family:arial\;"><span style="font-size:18px\;"><span style="font-size:22px\;"><span style="color: rgb(51\, 51\, 51)\; font-weight: bold\;">Former UK Basketball Players Jeff Sheppard and Cameron Mills on site for autographs.</span><span style="color: rgb(51\, 51\, 51)\; background-color: rgb(255\, 255\, 255)\;">&nbsp\;</span></span><br />\n<br />\n<strong>Member Benefit: </strong><br />\nThe 5:01 gives our members a place to network with other business members as well as learn about all that the Sponsors business has to offer.<br />\n<br />\n<span background-color:="" font-size:="" style="color: rgb(51\, 51\, 51)\; font-family: sans-serif\, Arial\, Verdana\, " trebuchet="">Complimentary Refreshments</span><br background-color:="" font-size:="" style="color: rgb(51\, 51\, 51)\; font-family: sans-serif\, Arial\, Verdana\, " trebuchet="" />\n<span background-color:="" font-size:="" style="color: rgb(51\, 51\, 51)\; font-family: sans-serif\, Arial\, Verdana\, " trebuchet="">Great Networking Opportunity</span><br background-color:="" font-size:="" style="color: rgb(51\, 51\, 51)\; font-family: sans-serif\, Arial\, Verdana\, " trebuchet="" />\n<span background-color:="" font-size:="" style="color: rgb(51\, 51\, 51)\; font-family: sans-serif\, Arial\, Verdana\, " trebuchet="">Business Card Drawing</span></span></span>
LOCATION:Bluegrass Hearing Clinic\, LLC 202 W. Stephen Foster Ave.\, Ste. A Bardstown\, KY 40004
UID:e.2912.374
SEQUENCE:3
DTSTAMP:20260422T081159Z
URL:https://members.bardstownchamber.com/events/details/5-01-connect-business-after-hours-december-2017-374
END:VEVENT

END:VCALENDAR
