BEGIN:VCALENDAR
VERSION:2.0
PRODID:-//ChamberMaster//Event Calendar 2.0//EN
METHOD:PUBLISH
X-PUBLISHED-TTL:P3D
REFRESH-INTERVAL:P3D
CALSCALE:GREGORIAN
BEGIN:VEVENT
DTSTART:20161214T220000Z
DTEND:20161214T230000Z
X-MICROSOFT-CDO-ALLDAYEVENT:FALSE
SUMMARY:5:01 Business After Hours/ December 2016
DESCRIPTION:This 5:01 will be at the Bluegrass Hearing Clinic. UK Wildcat legend Jack "Goose" Givens will be able to meet\, take pictures and sign autographs.
X-ALT-DESC;FMTTYPE=text/html:<p>This 5:01 will be at the Bluegrass Hearing Clinic. UK Wildcat legend Jack &quot\;Goose&quot\; Givens will be able to meet\, take pictures and sign autographs. &nbsp\;&nbsp\;&nbsp\;&nbsp\;</p>\n
LOCATION:Bluegrass Hearing Clinic is located at 202 W. Stephen Foster Ave. Ste A in Bardstown.
UID:e.2912.215
SEQUENCE:3
DTSTAMP:20260424T225758Z
URL:https://members.bardstownchamber.com/events/details/5-01-business-after-hours-december-2016-215
END:VEVENT

END:VCALENDAR
