BEGIN:VCALENDAR
VERSION:2.0
PRODID:-//ChamberMaster//Event Calendar 2.0//EN
METHOD:PUBLISH
X-PUBLISHED-TTL:P3D
REFRESH-INTERVAL:P3D
CALSCALE:GREGORIAN
BEGIN:VEVENT
DTSTART:20221116T220000Z
DTEND:20221116T230000Z
X-MICROSOFT-CDO-ALLDAYEVENT:FALSE
SUMMARY:5:00 pm Connect- Sponsored by Heaven Hill Distillery
DESCRIPTION:November Connect is Hosted by Heaven Hill Distillery\n\n\n\nMember Benefit:\n\nThe Connect gives our members a place to network with other business members as well as learn about all that the Sponsors business has to offer.\n\n\n\nFood. Drinks. Networking!
X-ALT-DESC;FMTTYPE=text/html:<span style="font-size:16px\;"><span style="font-family:arial\;">November Connect is Hosted by Heaven Hill Distillery<br />\n<br />\nMember Benefit:<br />\nThe Connect gives our members a place to network with other business members as well as learn about all that the Sponsors business has to offer.</span></span><br />\n<br />\n<span style="font-size:16px\;"><span style="font-family:arial\;">Food. Drinks. Networking!&nbsp\;</span></span><br />\n<br />\n<br />\n<br />\n&nbsp\;
LOCATION:Heaven Hill 1311 Gilkey Run Rd. Bardstown Ky\, 40004
UID:e.2912.3116
SEQUENCE:3
DTSTAMP:20260419T132750Z
URL:https://members.bardstownchamber.com/events/details/5-00-pm-connect-sponsored-by-heaven-hill-distillery-3116
END:VEVENT

END:VCALENDAR
