BEGIN:VCALENDAR
VERSION:2.0
PRODID:-//ChamberMaster//Event Calendar 2.0//EN
METHOD:PUBLISH
X-PUBLISHED-TTL:P3D
REFRESH-INTERVAL:P3D
CALSCALE:GREGORIAN
BEGIN:VEVENT
DTSTART:20181020T143000Z
DTEND:20181020T190000Z
X-MICROSOFT-CDO-ALLDAYEVENT:FALSE
SUMMARY:3rd Annual Big Green Egg Fest Live Entertainment Dustin Collins
DESCRIPTION:Joe Hill's Powersports & Equipment 3rd Annual Egg Fest Will Be Held On October 20th @10am-2pm\, $10 Admission With All Proceeds Going \n\nTo The Guthrie Opportunity Center\, Join Us For A Great Cause\, Great Music And Great Food From Our Big Green Egg Chefs!\n\n\n\nLive Music From Bardstown Own Dustin Collins
X-ALT-DESC;FMTTYPE=text/html:<a href="https://www.facebook.com/joehillspowersports/" style="color: rgb(54\, 88\, 153)\; cursor: pointer\; text-decoration-line: none\; font-family: Helvetica\, Arial\, sans-serif\; font-size: 14px\; background-color: rgb(255\, 255\, 255)\;" target="_blank">Joe Hill&#39\;s Powersports &amp\; Equipment</a><span style="color: rgb(29\, 33\, 41)\; font-family: Helvetica\, Arial\, sans-serif\; font-size: 14px\; background-color: rgb(255\, 255\, 255)\;">&nbsp\;3rd Annual Egg Fest Will Be Held On October 20th @10am-2pm\, $10 Admission With All Proceeds Going&nbsp\;</span><br style="color: rgb(29\, 33\, 41)\; font-family: Helvetica\, Arial\, sans-serif\; font-size: 14px\; background-color: rgb(255\, 255\, 255)\;" />\n<span style="color: rgb(29\, 33\, 41)\; font-family: Helvetica\, Arial\, sans-serif\; font-size: 14px\; background-color: rgb(255\, 255\, 255)\;">To The&nbsp\;</span><a href="https://www.facebook.com/GuthrieOpportunityCenter/" style="color: rgb(54\, 88\, 153)\; cursor: pointer\; text-decoration-line: none\; font-family: Helvetica\, Arial\, sans-serif\; font-size: 14px\; background-color: rgb(255\, 255\, 255)\;" target="_blank">Guthrie Opportunity Center</a><span style="color: rgb(29\, 33\, 41)\; font-family: Helvetica\, Arial\, sans-serif\; font-size: 14px\; background-color: rgb(255\, 255\, 255)\;">\, Join Us For A Great Cause\, Great Music And Great Food From Our Big Green Egg Chefs!</span><br style="color: rgb(29\, 33\, 41)\; font-family: Helvetica\, Arial\, sans-serif\; font-size: 14px\; background-color: rgb(255\, 255\, 255)\;" />\n<br style="color: rgb(29\, 33\, 41)\; font-family: Helvetica\, Arial\, sans-serif\; font-size: 14px\; background-color: rgb(255\, 255\, 255)\;" />\n<span style="color: rgb(29\, 33\, 41)\; font-family: Helvetica\, Arial\, sans-serif\; font-size: 14px\; background-color: rgb(255\, 255\, 255)\;">Live Music From Bardstown Own&nbsp\;</span><a href="https://www.facebook.com/Dustincollinsmusic/" style="color: rgb(54\, 88\, 153)\; cursor: pointer\; text-decoration-line: none\; font-family: Helvetica\, Arial\, sans-serif\; font-size: 14px\; background-color: rgb(255\, 255\, 255)\;" target="_blank">Dustin Collins</a>
LOCATION:
UID:e.2912.1619
SEQUENCE:3
DTSTAMP:20260419T182117Z
URL:https://members.bardstownchamber.com/events/details/3rd-annual-big-green-egg-fest-live-entertainment-dustin-collins-1619
END:VEVENT

END:VCALENDAR
