BEGIN:VCALENDAR
VERSION:2.0
PRODID:-//ChamberMaster//Event Calendar 2.0//EN
METHOD:PUBLISH
X-PUBLISHED-TTL:P3D
REFRESH-INTERVAL:P3D
CALSCALE:GREGORIAN
BEGIN:VEVENT
DTSTART;VALUE=DATE:20180914
DTEND;VALUE=DATE:20180917
TRANSP:TRANSPARENT
X-MICROSOFT-CDO-ALLDAYEVENT:TRUE
SUMMARY:3 days of Bourbon\, History & Business with McKendree College
DESCRIPTION:McKendree University has two Kentucky Campus'.  One in Radcliff and one in Shepherdsville.  September is Kentucky Bourbon History Month.  McKendree is having a Business Class (BUS 384) good for one semester hour.  It is 3 days of Bourbon\, History & Business.  Friday September 14\, Saturday September 15\, and Sunday September 16.  Friday we start class at Boundary Oak Distillery\, Saturday we go to Jim Beam Corporate in Clermont\, KY\, and Sunday we go back to Boundary Oak Distillery to rap up the class.
X-ALT-DESC;FMTTYPE=text/html:<p><span style="font-size:12.0pt\;color:black">McKendree University has two Kentucky Campus&#39\;.&nbsp\; One in Radcliff and one in Shepherdsville.&nbsp\; September is Kentucky Bourbon History Month.&nbsp\; McKendree is having a Business Class (BUS 384) good for one semester hour.&nbsp\; It is 3 days of Bourbon\, History &amp\; Business.&nbsp\; Friday September 14\, Saturday September 15\, and Sunday September 16.&nbsp\; Friday we start class at Boundary Oak Distillery\, Saturday we go to Jim Beam Corporate in Clermont\, KY\, and Sunday we go back to Boundary Oak Distillery to rap up the class.&nbsp\;&nbsp\;<o:p></o:p></span></p>\n
LOCATION:Reserve Your Spot! Call: 270.351.5003 Email: kentuckyadmissions@mckendree.edu Must be 21 years or older to participate
UID:e.2912.1570
SEQUENCE:3
DTSTAMP:20260419T200112Z
URL:https://members.bardstownchamber.com/events/details/3-days-of-bourbon-history-business-with-mckendree-college-1570
END:VEVENT

END:VCALENDAR
