BEGIN:VCALENDAR
VERSION:2.0
PRODID:-//ChamberMaster//Event Calendar 2.0//EN
METHOD:PUBLISH
X-PUBLISHED-TTL:P3D
REFRESH-INTERVAL:P3D
CALSCALE:GREGORIAN
BEGIN:VEVENT
DTSTART:20260325T210000Z
DTEND:20260325T220000Z
X-MICROSOFT-CDO-ALLDAYEVENT:FALSE
SUMMARY:2026 March Connect- Sponsored by WBRT & WOKH and LaQuinta by Wyndham
DESCRIPTION:March Connect\n\nMarch 25\, 2026\n\n5:00 p.m.\n\n\n\nSponsored by: WBRT & WOKH and LaQuinta by Wyndham\n\n3305 E John Rowan Blvd\,\n\nBardstown\, KY 40004\n\n\n\nConnects are Networking Events Free to Members!\n\nFood. Drink. Prizes\n\n\n\nNon-members interested in joining the Chamber are welcome to attend one Connect.
X-ALT-DESC;FMTTYPE=text/html:<span style="font-family:arial\;"><font style="box-sizing: border-box\; color: rgb(85\, 85\, 85)\; font-size: 16px\;"><span style="box-sizing: border-box\;"><span style="box-sizing: border-box\; font-weight: bolder\;"><u style="box-sizing: border-box\;">March Connect</u></span></span></font><br style="box-sizing: border-box\; color: rgb(85\, 85\, 85)\; font-size: 16px\; font-family: arial\;" />\n<span style="box-sizing: border-box\; font-size: 16px\;">March 25\, 2026</span><br style="box-sizing: border-box\; color: rgb(85\, 85\, 85)\; font-size: 16px\; font-family: arial\;" />\n<span style="box-sizing: border-box\; font-size: 16px\;">5:00 p.m.</span><br style="box-sizing: border-box\; color: rgb(85\, 85\, 85)\; font-size: 16px\; font-family: arial\;" />\n<br style="box-sizing: border-box\; color: rgb(85\, 85\, 85)\; font-size: 16px\; font-family: arial\;" />\n<span style="box-sizing: border-box\; font-size: 16px\;">Sponsored by: WBRT &amp\; WOKH and LaQuinta by Wyndham</span></span><br />\n<span style="font-size:14px\;"><span style="background-color: rgb(248\, 244\, 241)\;">3305 E John Rowan Blvd\,<br />\nBardstown\, KY 40004</span></span><br style="box-sizing: border-box\; color: rgb(85\, 85\, 85)\; font-size: 16px\; font-family: arial\;" />\n<br style="box-sizing: border-box\; color: rgb(85\, 85\, 85)\; font-size: 16px\; font-family: arial\;" />\n<span style="font-family:arial\;"><span style="box-sizing: border-box\; font-size: 16px\;">Connects are Networking Events Free to Members!</span><br style="box-sizing: border-box\; color: rgb(85\, 85\, 85)\; font-size: 16px\; font-family: arial\;" />\n<span style="box-sizing: border-box\; font-size: 16px\;">Food. Drink. Prizes</span><br style="box-sizing: border-box\; color: rgb(85\, 85\, 85)\; font-size: 16px\; font-family: arial\;" />\n<br style="box-sizing: border-box\; color: rgb(85\, 85\, 85)\; font-size: 16px\; font-family: arial\;" />\n<span style="box-sizing: border-box\; font-size: 16px\;">Non-members interested in joining the Chamber are welcome to attend one Connect.&nbsp\;&nbsp\;</span></span>
LOCATION:
UID:e.2912.3650
SEQUENCE:3
DTSTAMP:20260424T081655Z
URL:https://members.bardstownchamber.com/events/details/2026-march-connect-sponsored-by-wbrt-wokh-and-laquinta-by-wyndham-3650
END:VEVENT

END:VCALENDAR
