BEGIN:VCALENDAR
VERSION:2.0
PRODID:-//ChamberMaster//Event Calendar 2.0//EN
METHOD:PUBLISH
X-PUBLISHED-TTL:P3D
REFRESH-INTERVAL:P3D
CALSCALE:GREGORIAN
BEGIN:VEVENT
DTSTART:20201020T160000Z
DTEND:20201020T170000Z
X-MICROSOFT-CDO-ALLDAYEVENT:FALSE
SUMMARY:2020 Strategies\, hosted by Mercer Chamber of Commerce
DESCRIPTION:"2020 Strategies for generating customer interest and profits this holiday season"\n\nAre you prepared for the 83% last minute shoppers using a search engine to make Holiday purchases?   Register at https://kysbdc.ecenterdirect.com/events/9296
X-ALT-DESC;FMTTYPE=text/html:<strong><span style="font-family:arial\,sans-serif\;"><span style="font-size:12pt\;">&quot\;2020 Strategies</span></span></strong><span style="font-family:arial\,sans-serif\;"><span style="font-size:12pt\;"> for generating customer interest and profits this holiday season&quot\;</span></span><br />\n<span style="font-family:arial\,sans-serif\;"><span style="font-size:12pt\;">Are you prepared for the 83% last minute shoppers using a search engine to make Holiday purchases?&nbsp\; &nbsp\;Register at&nbsp\;<a href="https://kysbdc.ecenterdirect.com/events/9296">https://kysbdc.ecenterdirect.com/events/9296</a></span></span>
LOCATION:Online
UID:e.2912.2897
SEQUENCE:3
DTSTAMP:20260422T081357Z
URL:https://members.bardstownchamber.com/events/details/2020-strategies-hosted-by-mercer-chamber-of-commerce-2897
END:VEVENT

END:VCALENDAR
