BEGIN:VCALENDAR
VERSION:2.0
PRODID:-//ChamberMaster//Event Calendar 2.0//EN
METHOD:PUBLISH
X-PUBLISHED-TTL:P3D
REFRESH-INTERVAL:P3D
CALSCALE:GREGORIAN
BEGIN:VEVENT
DTSTART:20200814T120000Z
DTEND:20200814T180000Z
X-MICROSOFT-CDO-ALLDAYEVENT:FALSE
SUMMARY:2020 Golf Classic
DESCRIPTION:Registration will be done online and over the phone. \n\nAll mulligans and activity packages must be pre-purchased. \n\n\n\nTeams will be given an arrival time to decrease crowding and promote social distancing. \n\n\n\nTee off time is 8 am!  \n\n\n\n$400 a team of 4 players includes Green fees\, Cart Fees\, 4 drinks per person\, Grab and Go Lunch\, and $25 Chamber Gift Check to each player to spend in the community.  Great way to build employee morale or reserve a spot to a community member to thank them for a partnership.
X-ALT-DESC;FMTTYPE=text/html:Registration will be done online and over the phone.&nbsp\;<br />\nAll mulligans and activity packages must be pre-purchased.&nbsp\;<br />\n<br />\nTeams will be given an arrival time to decrease crowding and promote social distancing.&nbsp\;<br />\n<br />\nTee off time is 8 am! &nbsp\;<br />\n<br />\n$400 a team of 4 players includes Green fees\, Cart&nbsp\;Fees\, 4 drinks per person\, Grab and Go Lunch\, and $25 Chamber Gift Check to each&nbsp\;player to spend in the community.&nbsp\; Great way to build employee morale or reserve a spot to a community member to thank them for a partnership.
LOCATION:My Old Kentucky Home Golf Course 668 Loretta Road Bardstown\, KY 40004
UID:e.2912.2871
SEQUENCE:3
DTSTAMP:20260420T053759Z
URL:https://members.bardstownchamber.com/events/details/2020-golf-classic-2871
END:VEVENT

END:VCALENDAR
