BEGIN:VCALENDAR
VERSION:2.0
PRODID:-//ChamberMaster//Event Calendar 2.0//EN
METHOD:PUBLISH
X-PUBLISHED-TTL:P3D
REFRESH-INTERVAL:P3D
CALSCALE:GREGORIAN
BEGIN:VEVENT
DTSTART:20200123T230000Z
DTEND:20200124T023000Z
X-MICROSOFT-CDO-ALLDAYEVENT:FALSE
SUMMARY:2020 Annual Awards Dinner
DESCRIPTION:Please join us at the Bardstown Nelson County Chamber of Commerce\n\nAnnual Awards Dinner\n\nSponsored by LG&E and KU\n\nBar Sponsors \n\nHeaven Hill \n\nJim Beam \n\nBardstown Bourbon Company\n\nPreservation Distillery
X-ALT-DESC;FMTTYPE=text/html:Please join us at the Bardstown Nelson County Chamber of Commerce<br />\nAnnual Awards Dinner<br />\nSponsored by LG&amp\;E and KU<br />\n<span style="font-size:14px\;"><strong>Bar Sponsors</strong></span>&nbsp\;<br />\nHeaven Hill&nbsp\;<br />\nJim Beam&nbsp\;<br />\nBardstown Bourbon Company<br />\nPreservation Distillery&nbsp\;<br />\n<br />\n<br />\n<br />\n<br />\n&nbsp\;
LOCATION:Kreso's Restaurant 218 N 3rd Street Bardstown\, KY 40004
UID:e.2912.2823
SEQUENCE:3
DTSTAMP:20260419T194922Z
URL:https://members.bardstownchamber.com/events/details/2020-annual-awards-dinner-2823
END:VEVENT

END:VCALENDAR
