BEGIN:VCALENDAR
VERSION:2.0
PRODID:-//ChamberMaster//Event Calendar 2.0//EN
METHOD:PUBLISH
X-PUBLISHED-TTL:P3D
REFRESH-INTERVAL:P3D
CALSCALE:GREGORIAN
BEGIN:VEVENT
DTSTART:20190823T120000Z
DTEND:20190823T180000Z
X-MICROSOFT-CDO-ALLDAYEVENT:FALSE
SUMMARY:2019 Golf Classic
DESCRIPTION:Registration starts at 7:00 am and tee off at 8 am!  The annual Golf Classic Pro Package includes Lunch\, Putting Contest\, 4 Drink Tickets\, Green Fees\, Carts\, and Refreshments!  Don't miss out on the "BEST Golf Swag Bag in Bardstown" along with several awesome prizes!
X-ALT-DESC;FMTTYPE=text/html:Registration starts at 7:00 am and tee off at 8 am! &nbsp\;The annual Golf Classic Pro Package includes Lunch\, Putting Contest\, 4 Drink Tickets\, Green Fees\, Carts\, and Refreshments! &nbsp\;Don&#39\;t miss out on the &quot\;BEST Golf Swag Bag in Bardstown&quot\; along with several awesome prizes! &nbsp\;
LOCATION:
UID:e.2912.1689
SEQUENCE:3
DTSTAMP:20260419T132005Z
URL:https://members.bardstownchamber.com/events/details/2019-golf-classic-1689
END:VEVENT

END:VCALENDAR
