BEGIN:VCALENDAR
VERSION:2.0
PRODID:-//ChamberMaster//Event Calendar 2.0//EN
METHOD:PUBLISH
X-PUBLISHED-TTL:P3D
REFRESH-INTERVAL:P3D
CALSCALE:GREGORIAN
BEGIN:VEVENT
DTSTART:20200226T133000Z
DTEND:20200226T190000Z
X-MICROSOFT-CDO-ALLDAYEVENT:FALSE
SUMMARY:2019 / 2020 Young Leaders
DESCRIPTION:Workforce & Career Part 2\n\nFocus: Healthcare and Industry\n\nWednesday\, February 26\, 2020\n\n  \n\n8:30 am   9:00 am\n\nStudents will be picked up at each school\n \n\n9:00 am   10:30 am\n\nNPR of America/ Manufacturing & Industry Careers\n \n\n10:30 am   10:45 am\n\nTravel\n \n\n10:45 am   11:30 am\n\n Anytime Fitness  Establish Living Healthy\n\nStudents will do several workouts  Bring Water Bottle!!!!\n \n\n11:30 am   Noon\n\nLunch at Anytime Fitness  \n\n                            \n\nNoon   12:15 pm \n\nTravel\n \n\n12:15 pm - 1:30 pm\n\nTour of Bardstown Medical Center/ Hardin Memorial Health\n \n\n1:30 pm\n\nBoard the bus to return to school
X-ALT-DESC;FMTTYPE=text/html:<p dir="ltr" style="line-height:1.38\;text-align: center\;margin-top:0pt\;margin-bottom:0pt\;">&nbsp\;</p>\n\n<p dir="ltr" style="line-height: 1.38\; text-align: center\; margin-top: 0pt\; margin-bottom: 0pt\;"><span id="docs-internal-guid-c1d2903e-7fff-547d-337a-1be85e8eb9df"><span style="font-size: 16pt\; font-family: Arial\; font-weight: 700\; font-variant-numeric: normal\; font-variant-east-asian: normal\; vertical-align: baseline\; white-space: pre-wrap\;">&nbsp\;&nbsp\;&nbsp\;&nbsp\;Workforce &amp\; Career Part 2</span></span></p>\n\n<p dir="ltr" style="line-height: 1.38\; text-align: center\; margin-top: 0pt\; margin-bottom: 0pt\;"><span id="docs-internal-guid-c1d2903e-7fff-547d-337a-1be85e8eb9df"><span style="font-size: 16pt\; font-family: Arial\; font-weight: 700\; font-variant-numeric: normal\; font-variant-east-asian: normal\; vertical-align: baseline\; white-space: pre-wrap\;">Focus: Healthcare and Industry</span></span></p>\n\n<p dir="ltr" style="line-height: 1.38\; text-align: center\; margin-top: 0pt\; margin-bottom: 0pt\;"><span id="docs-internal-guid-c1d2903e-7fff-547d-337a-1be85e8eb9df"><span style="font-size: 12pt\; font-family: Arial\; font-variant-numeric: normal\; font-variant-east-asian: normal\; vertical-align: baseline\; white-space: pre-wrap\;">Wednesday\, February 26\, 2020</span></span></p>\n\n<p dir="ltr" style="line-height: 1.38\; margin-top: 0pt\; margin-bottom: 10pt\;"><span id="docs-internal-guid-c1d2903e-7fff-547d-337a-1be85e8eb9df"><span style="font-size: 12pt\; font-family: Arial\; font-variant-numeric: normal\; font-variant-east-asian: normal\; vertical-align: baseline\; white-space: pre-wrap\;">&nbsp\;&nbsp\;</span></span></p>\n\n<p dir="ltr" style="line-height: 1.38\; text-indent: -288pt\; margin-top: 0pt\; margin-bottom: 0pt\; padding: 0pt 0pt 0pt 288pt\;"><span id="docs-internal-guid-c1d2903e-7fff-547d-337a-1be85e8eb9df"><span style="font-size: 12pt\; font-family: Arial\; font-weight: 700\; font-variant-numeric: normal\; font-variant-east-asian: normal\; vertical-align: baseline\; white-space: pre-wrap\;">8:30 am &ndash\; 9:00 am</span></span></p>\n\n<p dir="ltr" style="line-height: 1.38\; text-indent: -288pt\; margin-top: 0pt\; margin-bottom: 0pt\; padding: 0pt 0pt 0pt 288pt\;"><span id="docs-internal-guid-c1d2903e-7fff-547d-337a-1be85e8eb9df"><span style="font-size: 12pt\; font-family: Arial\; font-variant-numeric: normal\; font-variant-east-asian: normal\; vertical-align: baseline\; white-space: pre-wrap\;">Students will be picked up at each school</span></span></p>\n&nbsp\;\n\n<p dir="ltr" style="line-height: 1.38\; text-indent: -288pt\; margin-top: 0pt\; margin-bottom: 0pt\; padding: 0pt 0pt 0pt 288pt\;"><span id="docs-internal-guid-c1d2903e-7fff-547d-337a-1be85e8eb9df"><span style="font-size: 12pt\; font-family: Arial\; font-weight: 700\; font-variant-numeric: normal\; font-variant-east-asian: normal\; vertical-align: baseline\; white-space: pre-wrap\;">9:00 am &ndash\; 10:30 am</span></span></p>\n\n<p dir="ltr" style="line-height: 1.38\; margin-top: 0pt\; margin-bottom: 0pt\;"><span id="docs-internal-guid-c1d2903e-7fff-547d-337a-1be85e8eb9df"><span style="font-size: 12pt\; font-family: Arial\; font-variant-numeric: normal\; font-variant-east-asian: normal\; vertical-align: baseline\; white-space: pre-wrap\;">NPR of America/ Manufacturing &amp\; Industry Careers</span></span></p>\n&nbsp\;\n\n<p dir="ltr" style="line-height: 1.38\; text-indent: -288pt\; margin-top: 0pt\; margin-bottom: 0pt\; padding: 0pt 0pt 0pt 288pt\;"><span id="docs-internal-guid-c1d2903e-7fff-547d-337a-1be85e8eb9df"><span style="font-size: 12pt\; font-family: Arial\; font-weight: 700\; font-variant-numeric: normal\; font-variant-east-asian: normal\; vertical-align: baseline\; white-space: pre-wrap\;">10:30 am &ndash\; 10:45 am</span></span></p>\n\n<p dir="ltr" style="line-height: 1.38\; text-indent: -288pt\; margin-top: 0pt\; margin-bottom: 0pt\; padding: 0pt 0pt 0pt 288pt\;"><span id="docs-internal-guid-c1d2903e-7fff-547d-337a-1be85e8eb9df"><span style="font-size: 12pt\; font-family: Arial\; font-variant-numeric: normal\; font-variant-east-asian: normal\; vertical-align: baseline\; white-space: pre-wrap\;">Travel</span></span></p>\n&nbsp\;\n\n<p dir="ltr" style="line-height: 1.38\; text-indent: -288pt\; margin-top: 0pt\; margin-bottom: 0pt\; padding: 0pt 0pt 0pt 288pt\;"><span id="docs-internal-guid-c1d2903e-7fff-547d-337a-1be85e8eb9df"><span style="font-size: 12pt\; font-family: Arial\; font-weight: 700\; font-variant-numeric: normal\; font-variant-east-asian: normal\; vertical-align: baseline\; white-space: pre-wrap\;">10:45 am &ndash\; 11:30 am</span></span></p>\n\n<p dir="ltr" style="line-height: 1.38\; text-indent: -288pt\; margin-top: 0pt\; margin-bottom: 0pt\; padding: 0pt 0pt 0pt 288pt\;"><span id="docs-internal-guid-c1d2903e-7fff-547d-337a-1be85e8eb9df"><span style="font-size: 12pt\; font-family: Arial\; font-variant-numeric: normal\; font-variant-east-asian: normal\; vertical-align: baseline\; white-space: pre-wrap\;">&nbsp\;Anytime Fitness&ndash\; Establish Living Healthy</span></span></p>\n\n<p dir="ltr" style="line-height: 1.38\; text-indent: -288pt\; margin-top: 0pt\; margin-bottom: 0pt\; padding: 0pt 0pt 0pt 288pt\;"><span id="docs-internal-guid-c1d2903e-7fff-547d-337a-1be85e8eb9df"><span style="font-size: 12pt\; font-family: Arial\; font-variant-numeric: normal\; font-variant-east-asian: normal\; vertical-align: baseline\; white-space: pre-wrap\;">Students will do several workouts&ndash\; </span><span style="font-size: 12pt\; font-family: Arial\; font-weight: 700\; font-variant-numeric: normal\; font-variant-east-asian: normal\; vertical-align: baseline\; white-space: pre-wrap\;">Bring Water Bottle!!!!</span></span></p>\n&nbsp\;\n\n<p dir="ltr" style="line-height: 1.38\; text-indent: -288pt\; margin-top: 0pt\; margin-bottom: 0pt\; padding: 0pt 0pt 0pt 288pt\;"><span id="docs-internal-guid-c1d2903e-7fff-547d-337a-1be85e8eb9df"><span style="font-size: 12pt\; font-family: Arial\; font-weight: 700\; font-variant-numeric: normal\; font-variant-east-asian: normal\; vertical-align: baseline\; white-space: pre-wrap\;">11:30 am &ndash\; Noon</span></span></p>\n\n<p dir="ltr" style="line-height: 1.38\; text-indent: -288pt\; margin-top: 0pt\; margin-bottom: 0pt\; padding: 0pt 0pt 0pt 288pt\;"><span id="docs-internal-guid-c1d2903e-7fff-547d-337a-1be85e8eb9df"><span style="font-size: 12pt\; font-family: Arial\; font-variant-numeric: normal\; font-variant-east-asian: normal\; vertical-align: baseline\; white-space: pre-wrap\;">Lunch at Anytime Fitness&nbsp\;&nbsp\;</span></span></p>\n\n<p dir="ltr" style="line-height: 1.38\; text-indent: -288pt\; margin-top: 0pt\; margin-bottom: 0pt\; padding: 0pt 0pt 0pt 288pt\;"><span id="docs-internal-guid-c1d2903e-7fff-547d-337a-1be85e8eb9df"><span style="font-size: 12pt\; font-family: Arial\; font-variant-numeric: normal\; font-variant-east-asian: normal\; vertical-align: baseline\; white-space: pre-wrap\;">&nbsp\;&nbsp\;&nbsp\;&nbsp\;&nbsp\;&nbsp\;&nbsp\;&nbsp\;&nbsp\;&nbsp\;&nbsp\;&nbsp\;&nbsp\;&nbsp\;&nbsp\;&nbsp\;&nbsp\;&nbsp\;&nbsp\;&nbsp\;&nbsp\;&nbsp\;&nbsp\;&nbsp\;</span><span style="font-size: 12pt\; font-family: Arial\; font-variant-numeric: normal\; font-variant-east-asian: normal\; vertical-align: baseline\; white-space: pre-wrap\;">&nbsp\;&nbsp\; &nbsp\;</span></span></p>\n\n<p dir="ltr" style="line-height: 1.38\; margin-top: 0pt\; margin-bottom: 0pt\;"><span id="docs-internal-guid-c1d2903e-7fff-547d-337a-1be85e8eb9df"><span style="font-size: 12pt\; font-family: Arial\; font-weight: 700\; font-variant-numeric: normal\; font-variant-east-asian: normal\; vertical-align: baseline\; white-space: pre-wrap\;">Noon &ndash\; 12:15 pm</span><span style="font-size: 12pt\; font-family: Arial\; font-variant-numeric: normal\; font-variant-east-asian: normal\; vertical-align: baseline\; white-space: pre-wrap\;">&nbsp\;</span></span></p>\n\n<p dir="ltr" style="line-height: 1.38\; margin-top: 0pt\; margin-bottom: 0pt\;"><span id="docs-internal-guid-c1d2903e-7fff-547d-337a-1be85e8eb9df"><span style="font-size: 12pt\; font-family: Arial\; font-variant-numeric: normal\; font-variant-east-asian: normal\; vertical-align: baseline\; white-space: pre-wrap\;">Travel</span></span></p>\n&nbsp\;\n\n<p dir="ltr" style="line-height: 1.38\; margin-top: 0pt\; margin-bottom: 0pt\;"><span id="docs-internal-guid-c1d2903e-7fff-547d-337a-1be85e8eb9df"><span style="font-size: 12pt\; font-family: Arial\; font-weight: 700\; font-variant-numeric: normal\; font-variant-east-asian: normal\; vertical-align: baseline\; white-space: pre-wrap\;">12:15 pm - 1:30 pm</span></span></p>\n\n<p dir="ltr" style="line-height: 1.38\; margin-top: 0pt\; margin-bottom: 0pt\;"><span id="docs-internal-guid-c1d2903e-7fff-547d-337a-1be85e8eb9df"><span style="font-size: 12pt\; font-family: Arial\; font-variant-numeric: normal\; font-variant-east-asian: normal\; vertical-align: baseline\; white-space: pre-wrap\;">Tour of Bardstown Medical Center/ Hardin Memorial Health</span></span></p>\n&nbsp\;\n\n<p dir="ltr" style="line-height: 1.38\; margin-top: 0pt\; margin-bottom: 0pt\;"><span id="docs-internal-guid-c1d2903e-7fff-547d-337a-1be85e8eb9df"><span style="font-size: 12pt\; font-family: Arial\; font-weight: 700\; font-variant-numeric: normal\; font-variant-east-asian: normal\; vertical-align: baseline\; white-space: pre-wrap\;">1:30 pm</span></span></p>\n\n<p dir="ltr" style="line-height: 1.38\; margin-top: 0pt\; margin-bottom: 0pt\;"><span id="docs-internal-guid-c1d2903e-7fff-547d-337a-1be85e8eb9df"><span style="font-size: 12pt\; font-family: Arial\; font-variant-numeric: normal\; font-variant-east-asian: normal\; vertical-align: baseline\; white-space: pre-wrap\;">Board the bus to return to school</span></span></p>\n\n<div>&nbsp\;</div>\n\n<p dir="ltr" style="line-height:1.38\;text-align: center\;margin-top:0pt\;margin-bottom:0pt\;">&nbsp\;</p>\n\n<div>&nbsp\;</div>\n
LOCATION:
UID:e.2912.1777
SEQUENCE:3
DTSTAMP:20260419T211712Z
URL:https://members.bardstownchamber.com/events/details/2019-2020-young-leaders-1777
END:VEVENT

END:VCALENDAR
