BEGIN:VCALENDAR
VERSION:2.0
PRODID:-//ChamberMaster//Event Calendar 2.0//EN
METHOD:PUBLISH
X-PUBLISHED-TTL:P3D
REFRESH-INTERVAL:P3D
CALSCALE:GREGORIAN
BEGIN:VEVENT
DTSTART:20180511T213000Z
DTEND:20180512T000000Z
X-MICROSOFT-CDO-ALLDAYEVENT:FALSE
SUMMARY:2018 Spring Youth Summit
DESCRIPTION:The You Cannot Be What You Cannot See Youth Summit is a 2.5 hour free event designed for youth 6th-12th grade. The youth will particate in several high-level sessions to ignite their mind that "I am a value adder". Focus on Character\, Leadership\, Endurance\, Passion\, and Smart Money.
X-ALT-DESC;FMTTYPE=text/html:<span style="color: rgb(75\, 79\, 86)\; font-family: Helvetica\, Arial\, sans-serif\; font-size: 14px\; background-color: rgb(255\, 255\, 255)\;">The You Cannot Be What You Cannot See Youth Summit is a 2.5 hour free event designed for youth 6th-12th grade. The youth will particate in several high-level sessions to ignite their mind that &quot\;I am a value adder&quot\;. Focus on Character\, Leadership\, Endurance\, Passion\, and Smart Money.</span>
LOCATION:pin Elizabethtown Community and Technical College 600 College Street Road RPC Auditorium\, Elizabethtown\, Kentucky
UID:e.2912.1457
SEQUENCE:3
DTSTAMP:20260420T023022Z
URL:https://members.bardstownchamber.com/events/details/2018-spring-youth-summit-1457
END:VEVENT

END:VCALENDAR
